BEGIN:VCALENDAR
VERSION:2.0
PRODID:-//ChamberMaster//Event Calendar 2.0//EN
METHOD:PUBLISH
X-PUBLISHED-TTL:P3D
REFRESH-INTERVAL:P3D
CALSCALE:GREGORIAN
BEGIN:VEVENT
DTSTART:20241213T170000Z
DTEND:20241213T180000Z
X-MICROSOFT-CDO-ALLDAYEVENT:FALSE
SUMMARY:Integrating Body Based Practices into OCD Treatment
DESCRIPTION:While Exposure and Response Prevention (ERP) is often the first-line approach for OCD\, dance/movement therapy (DMT) has potential to increase treatment outcomes when integrated alongside ERP treatment\, in particular when addressing somatic manifestations of OCD. Participants will learn practical strategies for incorporating movement-based interventions into OCD treatment through a combination of didactic instruction and experiential practices.
X-ALT-DESC;FMTTYPE=text/html:<p>&nbsp\;</p>\n\n<p><strong>While Exposure and Response Prevention (ERP) is often the first-line approach for OCD\, dance/movement therapy (DMT) has potential to increase treatment outcomes when integrated alongside ERP treatment\, in particular when addressing somatic manifestations of OCD. Participants will learn practical strategies for incorporating movement-based interventions into OCD treatment through a combination of didactic instruction and experiential practices.</strong></p>\n\n<p>&nbsp\;</p>\n
LOCATION:Virtual
UID:e.2566.12062
SEQUENCE:3
DTSTAMP:20260421T113211Z
URL:https://business.ravenswoodchicago.org/events/details/integrating-body-based-practices-into-ocd-treatment-12062
END:VEVENT

END:VCALENDAR
