BEGIN:VCALENDAR
VERSION:2.0
PRODID:-//ChamberMaster//Event Calendar 2.0//EN
METHOD:PUBLISH
X-PUBLISHED-TTL:P3D
REFRESH-INTERVAL:P3D
CALSCALE:GREGORIAN
BEGIN:VEVENT
DTSTART:20250326T233000Z
DTEND:20250327T013000Z
X-MICROSOFT-CDO-ALLDAYEVENT:FALSE
SUMMARY:Incense Cone Workshop
DESCRIPTION:Join EINNIM at Indigo & Violet Studio to make your own incense cones!  Explore the art of crafting your own incense cones at a new and exciting hands-on workshop hosted by Einnim Creative Studio!!! We're excited to host Einnim at the studio after many candle collaborations! Unleash your creativity by selecting from a variety of natural herbs to blend together and infuse with magical intentions. After blending the herbs you'll add your choice of natural essential oils to enrich the fragrance. Expect to get a bit messy as you dive into this workshop - gloves and aprons available! These unique cones will make a delightful and fragrant addition to your home. Gold tins plus crafty supplies to embellish your tins are included. Paint\, sequin\, or rhinestone your custom creations! Please be aware that your incense cones will take 2 full days to dry before lighting at home. All supplies are provided and no prior experience is required!
X-ALT-DESC;FMTTYPE=text/html:Join EINNIM at Indigo &amp\; Violet Studio to make your own incense cones!&nbsp\; Explore the art of crafting your own incense cones at a new and exciting hands-on workshop hosted by&nbsp\;Einnim Creative Studio!!! We&#39\;re excited to host Einnim at the studio after many candle collaborations! Unleash your creativity by selecting from a variety of natural herbs to blend together and infuse with magical intentions. After blending the herbs you&#39\;ll add your choice of natural essential oils to enrich the fragrance. Expect to get a bit messy as you dive into this workshop - gloves and aprons available! These unique cones will make a delightful and fragrant addition to your home. Gold tins plus crafty supplies to embellish your tins are included. Paint\, sequin\, or rhinestone your custom creations! Please be aware that your incense cones will take 2 full days to dry before lighting at home. All supplies are provided and no prior experience is required!
LOCATION:Indigo & Violet Studio - 1411 W. Irving Park Rd.
UID:e.2566.13643
SEQUENCE:3
DTSTAMP:20260421T072554Z
URL:https://business.ravenswoodchicago.org/events/details/incense-cone-workshop-13643
END:VEVENT

END:VCALENDAR
