BEGIN:VCALENDAR
VERSION:2.0
PRODID:-//ChamberMaster//Event Calendar 2.0//EN
METHOD:PUBLISH
X-PUBLISHED-TTL:P3D
REFRESH-INTERVAL:P3D
CALSCALE:GREGORIAN
BEGIN:VEVENT
DTSTART:20240515T000000Z
DTEND:20240515T020000Z
X-MICROSOFT-CDO-ALLDAYEVENT:FALSE
SUMMARY:Hot Potato Hearts Speed Dating
DESCRIPTION:Hot Potato Hearts is a platform created to help people build meaningful connections in a low-pressure\, casual safe space. Our goal is to create a welcoming\, fun\, inclusive\, and relaxed environment for cultivating relationships whether romantic or platonic. Participants will talk to everyone at the event whether they have the same sexual orientation or not\, so you can get a date or make some new friends!
X-ALT-DESC;FMTTYPE=text/html:<span style="color:rgb(3\, 3\, 3)\; font-family:montserrat\,roboto fallback for montserrat\,arial fallback for montserrat\,arial\,sans-serif\; font-size:16px">Hot Potato Hearts is a platform created to help people build meaningful connections in a low-pressure\, casual safe space. Our goal is to create a welcoming\, fun\, inclusive\, and relaxed environment for cultivating relationships&mdash\;whether romantic or platonic. Participants will talk to everyone at the event whether they have the same sexual orientation or not\, so you can get a date or make some new friends!</span>
LOCATION:KOVAL Tasting Room 4241 N Ravenswood Ave Chicago\, IL 60613
UID:e.2566.8418
SEQUENCE:3
DTSTAMP:20260422T001308Z
URL:https://business.ravenswoodchicago.org/events/details/hot-potato-hearts-speed-dating-05-14-2024-8418
END:VEVENT

END:VCALENDAR
