BEGIN:VCALENDAR
VERSION:2.0
PRODID:-//ChamberMaster//Event Calendar 2.0//EN
METHOD:PUBLISH
X-PUBLISHED-TTL:P3D
REFRESH-INTERVAL:P3D
CALSCALE:GREGORIAN
BEGIN:VEVENT
DTSTART:20241222T010000Z
DTEND:20241222T040000Z
X-MICROSOFT-CDO-ALLDAYEVENT:FALSE
SUMMARY:Holiday Dance Social: Festive Choreography & Open Dancing
DESCRIPTION:Word on the street is that BDC has Chicago's largest ballroom dance floor\, and we want to put it to good use!\n\nThe evening kicks off with a 45-minute class learning a fun choreography to a holiday favorite\, Rockin' Around The Christmas Tree by Brenda Lee!\, followed by two hours of open dancing. Expect a delightful mix of holiday favorites in ballroom\, Latin\, swing\, and club styles.\n\nDancers of all levels are welcomed to join the dance floor or to simply come and enjoy the festive\, social atmosphere. Feel free to wear whatever makes you feel festive and bright. All socials are BYOB!\n\nCost: \n\nClass & Social - $30/person\n\nSocial Only - $10/person\n\nFREE for Studio Members!\n\nA note about the class: The first fifteen minutes of every session is dedicated to teaching basic\, versatile dance steps that can be applied to a variety of music styles. So if you're new to our Saturday Night Socials\, this part is especially for you! Arrive on time and you'll gain a solid foundation that will set you up to enjoy the rest of the night on the dance floor.
X-ALT-DESC;FMTTYPE=text/html:<p>Word on the street is that BDC has Chicago&#39\;s largest ballroom dance floor\, and we want to put it to good use!</p>\n\n<p>The evening kicks off with a 45-minute class learning a fun choreography to a holiday favorite\,&nbsp\;Rockin&rsquo\; Around The Christmas Tree by Brenda Lee!\, followed by two hours of open dancing. Expect a delightful mix of holiday favorites in ballroom\, Latin\, swing\, and club styles.</p>\n\n<p>Dancers of all levels are welcomed to join the dance floor or to simply come and enjoy the festive\, social atmosphere. Feel free to wear whatever makes you feel festive and bright. All socials are BYOB!</p>\n\n<p><em>Cost:</em><em> </em></p>\n\n<p><em><a href="https://momence.com/David-Saucedo/Holiday-Song-Choreo-%2B-4th-Saturday-Social/106582875">Class &amp\; Social</a> - $30/person</em></p>\n\n<p><em><a href="https://momence.com/David-Saucedo/4th-Saturday-Social-(Social-Only)/106583160">Social Only</a> - $10/person</em></p>\n\n<p><em>FREE for Studio Members!</em></p>\n\n<p><strong>A note about the class:</strong> The first fifteen minutes of every session is dedicated to teaching basic\, versatile dance steps that can be applied to a variety of music styles. So if you&rsquo\;re new to our Saturday Night Socials\, this part is especially for you! Arrive on time and you&rsquo\;ll gain a solid foundation that will set you up to enjoy the rest of the night on the dance floor.</p>\n
LOCATION:
UID:e.2566.12184
SEQUENCE:3
DTSTAMP:20260421T113416Z
URL:https://business.ravenswoodchicago.org/events/details/holiday-dance-social-festive-choreography-open-dancing-12184
END:VEVENT

END:VCALENDAR
