BEGIN:VCALENDAR
VERSION:2.0
PRODID:-//ChamberMaster//Event Calendar 2.0//EN
METHOD:PUBLISH
X-PUBLISHED-TTL:P3D
REFRESH-INTERVAL:P3D
CALSCALE:GREGORIAN
BEGIN:VEVENT
DTSTART:20250731T140000Z
DTEND:20250731T160000Z
X-MICROSOFT-CDO-ALLDAYEVENT:FALSE
SUMMARY:Health & Wellness Roundtable
DESCRIPTION:Now more than ever\, it is critical that we work together to invest in the physical\, mental\, and emotional wellbeing of our community members\, friends\, and neighbors.\n\nOn Thursday\, July 31st from 9am 11am\, we're hosting a Health & Wellness Roundtable at Dandelion Therapeutic Art Center to hear directly from business leaders in the health and wellness space. This gathering is an opportunity to share your insights\, challenges\, and ideas as we begin shaping a major 2026 event aimed at highlighting wellness businesses in our community.\n\nWe welcome wellness professionals across all areas of the industry from gyms and fitness studios to therapists\, coaches\, and those who offer services or products designed to support self-care and overall wellbeing. Your voice is important in helping us better understand the needs\, strengths\, and potential of this vital sector in Ravenswood.\n\nTickets include admission\, coffee and breakfast bites from R&A Sourdough\, and entry into a door prize raffle. Space is limited\, so reserve your spot today!
X-ALT-DESC;FMTTYPE=text/html:<!-- wp:paragraph -->\n<p style="box-sizing: inherit\; margin: 0px 0px 1.5em\; color: rgb(64\, 64\, 64)\; font-family: Montserrat\, &quot\;Century Gothic&quot\;\, &quot\;Avant Garde&quot\;\, Helvetica\, Arial\, sans-serif\; font-size: 17.6px\;"><em style="box-sizing: inherit\;">Now more than ever\, it is critical that we work together to invest in the physical\, mental\, and emotional wellbeing of our community members\, friends\, and neighbors.</em></p>\n\n<p style="box-sizing: inherit\; margin: 0px 0px 1.5em\; color: rgb(64\, 64\, 64)\; font-family: Montserrat\, &quot\;Century Gothic&quot\;\, &quot\;Avant Garde&quot\;\, Helvetica\, Arial\, sans-serif\; font-size: 17.6px\;">On&nbsp\;<span style="box-sizing: inherit\; font-family: montserratmedium\, &quot\;Century Gothic&quot\;\, &quot\;Avant Garde&quot\;\, Helvetica\, Arial\, sans-serif\; font-weight: bolder\;">Thursday\, July 31st from 9am&ndash\;11am</span>\, we&rsquo\;re hosting a Health &amp\; Wellness Roundtable at&nbsp\;<a href="https://www.dandelionarttherapy.com/" style="box-sizing: inherit\; background-color: transparent\; color: rgb(0\, 87\, 82)\; text-decoration-thickness: 1px\; text-decoration-style: solid\; text-decoration-color: rgb(72\, 193\, 189)\; transition: 0.3s\;">Dandelion Therapeutic Art Center</a>&nbsp\;to hear directly from business leaders in the health and wellness space. This gathering is an opportunity to share your insights\, challenges\, and ideas as we begin shaping a major 2026 event aimed at highlighting wellness businesses in our community.</p>\n\n<p style="box-sizing: inherit\; margin: 0px 0px 1.5em\; color: rgb(64\, 64\, 64)\; font-family: Montserrat\, &quot\;Century Gothic&quot\;\, &quot\;Avant Garde&quot\;\, Helvetica\, Arial\, sans-serif\; font-size: 17.6px\;">We welcome wellness professionals across all areas of the industry&mdash\;from gyms and fitness studios to therapists\, coaches\, and those who offer services or products designed to support self-care and overall wellbeing. Your voice is important in helping us better understand the needs\, strengths\, and potential of this vital sector in Ravenswood.</p>\n\n<p style="box-sizing: inherit\; margin: 0px 0px 1.5em\; color: rgb(64\, 64\, 64)\; font-family: Montserrat\, &quot\;Century Gothic&quot\;\, &quot\;Avant Garde&quot\;\, Helvetica\, Arial\, sans-serif\; font-size: 17.6px\;"><em style="box-sizing: inherit\;">Tickets include admission\, coffee and breakfast bites from&nbsp\;<a href="https://randasourdough.com/" style="box-sizing: inherit\; background-color: transparent\; color: rgb(0\, 87\, 82)\; text-decoration-thickness: 1px\; text-decoration-style: solid\; text-decoration-color: rgb(72\, 193\, 189)\; transition: 0.3s\;">R&amp\;A Sourdough</a>\, and entry into a door prize raffle. Space is limited\, so reserve your spot today!</em></p>\n<!-- /wp:paragraph --><!-- wp:heading {"textAlign":"center"\,"level":3} --><!-- /wp:paragraph --><!-- wp:spacer {"height":"14px"} --><!-- /wp:paragraph -->
LOCATION:Dandelion Therapeutic Art Center
UID:e.2566.14121
SEQUENCE:3
DTSTAMP:20260420T220056Z
URL:https://business.ravenswoodchicago.org/events/details/health-wellness-roundtable-14121
END:VEVENT

END:VCALENDAR
