BEGIN:VCALENDAR
VERSION:2.0
PRODID:-//ChamberMaster//Event Calendar 2.0//EN
METHOD:PUBLISH
X-PUBLISHED-TTL:P3D
REFRESH-INTERVAL:P3D
CALSCALE:GREGORIAN
BEGIN:VEVENT
DTSTART:20250723T223000Z
DTEND:20250724T013000Z
X-MICROSOFT-CDO-ALLDAYEVENT:FALSE
SUMMARY:Happy Lobster Food Truck @ Demo Brewing
DESCRIPTION:Happy Lobster Food Truck @ Demo Brewing! \n\n\n\nWe're kicking off our first-ever food truck in the parking lot with none other than the legendary Happy Lobster! Come grab a beer and a buttery lobster roll\, hang with friends\, and enjoy summer the right way.\n\nDemo Brewing\, 1763 W Berteau Ave\, Chicago\, IL 60613\, order from our parking lot and bring it in our BYOF taproom\n\n\n\nPre-orders will open a week ahead of time\, skip the line and reserve your roll!
X-ALT-DESC;FMTTYPE=text/html:<p><span style="font-size:14px\;"><strong>Happy Lobster Food Truck @ Demo Brewing!</strong>&nbsp\;<br />\n<br />\nWe&#39\;re kicking off our <strong>first-ever food truck</strong> in the parking lot with none other than the legendary <strong>Happy Lobster</strong>! Come grab a beer and a buttery lobster roll\, hang with friends\, and enjoy summer the right way.</span></p>\n\n<p><span style="font-size:14px\;">Demo Brewing\,&nbsp\;<span style="color:rgb(31\, 31\, 31)\; font-family:roboto\,arial\,sans-serif">1763 W Berteau Ave\, Chicago\, IL 60613\, order from our parking lot and bring it in our BYOF taproom</span><br />\n<br />\nPre-orders will open a week ahead of time\, skip the line and reserve your roll!</span></p>\n
LOCATION:1763 W Berteau Ave\, Chicago\, IL 60613 Parking Lot
UID:e.2566.14536
SEQUENCE:3
DTSTAMP:20260420T220511Z
URL:https://business.ravenswoodchicago.org/events/details/happy-lobster-food-truck-demo-brewing-14536
END:VEVENT

END:VCALENDAR
