BEGIN:VCALENDAR
VERSION:2.0
PRODID:-//ChamberMaster//Event Calendar 2.0//EN
METHOD:PUBLISH
X-PUBLISHED-TTL:P3D
REFRESH-INTERVAL:P3D
CALSCALE:GREGORIAN
BEGIN:VEVENT
DTSTART:20211005T150000Z
DTEND:20211005T160000Z
X-MICROSOFT-CDO-ALLDAYEVENT:FALSE
SUMMARY:GRCC Webinar: Research & Development Tax Credits for Small Businesses
DESCRIPTION:Join GRCC for a free webinar on Research & Development Tax Credits! \n\n\n\nHeaddy Mulroy Advisor Group will present on R&D Tax Credits\, eligibility\, qualifying business activities\, and how to claim the credit. Research & Development Tax Credits are available to businesses that develop new or improved products\, processes\, software\, techniques\, formulas\, or inventions that result in new or improved functionality\, performance\, reliability\, or quality.\n\n\n\n The credit criteria are broad and encompass a wide array of activities conducted in modern business. Many small business owners incorrectly assume this incentive is only for cutting-edge technology firms\, resulting in eligible companies missing out.\n\n\n\nAbout our Presenters\n\n\n\nHeaddy Mulroy\, a Chicago-based firm\, specializes in government-sponsored credits and incentive tax services that reduce tax liability for small businesses.
X-ALT-DESC;FMTTYPE=text/html:<p style="box-sizing: inherit\; margin: 0px 0px 1.5em\; color: rgb(64\, 64\, 64)\; font-family: Montserrat\, &quot\;Century Gothic&quot\;\, &quot\;Avant Garde&quot\;\, Helvetica\, Arial\, sans-serif\; font-size: 17.6px\;"><span style="font-size:16px\;"><span style="box-sizing: inherit\; font-family: montserratmedium\, &quot\;Century Gothic&quot\;\, &quot\;Avant Garde&quot\;\, Helvetica\, Arial\, sans-serif\; font-weight: bolder\; color: var(--satTeal)\;"><em><span style="font-size:18px\;">Join GRCC for a free webinar on Research &amp\; Development Tax Credits!&nbsp\;</span></em></span><br />\n<br />\nHeaddy Mulroy Advisor Group will present on R&amp\;D Tax Credits\, eligibility\, qualifying business activities\, and how to claim the credit.&nbsp\;Research &amp\; Development Tax Credits are available to businesses that develop new or improved products\, processes\, software\, techniques\, formulas\, or inventions that result in new or improved functionality\, performance\, reliability\, or quality.</span><br />\n<br />\n<span style="font-size:16px\;"><span style="color: rgb(64\, 64\, 64)\; font-family: Montserrat\, &quot\;Century Gothic&quot\;\, &quot\;Avant Garde&quot\;\, Helvetica\, Arial\, sans-serif\;">&#8203\;The credit criteria are broad and encompass a wide array of activities conducted in modern business.&nbsp\;</span><span style="color: var(--satTeal)\; box-sizing: inherit\; font-family: montserratmedium\, &quot\;Century Gothic&quot\;\, &quot\;Avant Garde&quot\;\, Helvetica\, Arial\, sans-serif\; font-weight: bolder\;">Many small business owners incorrectly assume this incentive is only for cutting-edge technology firms\, resulting in eligible companies missing out.</span><br />\n<br />\n<strong>About our Presenters</strong><br />\n<br />\nHeaddy Mulroy\, a Chicago-based firm\, specializes in government-sponsored credits and incentive tax services that reduce tax liability for small businesses.</span></p>\n
LOCATION:Zoom (download)
UID:e.2566.4522
SEQUENCE:3
DTSTAMP:20260419T142829Z
URL:https://business.ravenswoodchicago.org/events/details/grcc-webinar-research-development-tax-credits-for-small-businesses-4522
END:VEVENT

END:VCALENDAR
