BEGIN:VCALENDAR
VERSION:2.0
PRODID:-//ChamberMaster//Event Calendar 2.0//EN
METHOD:PUBLISH
X-PUBLISHED-TTL:P3D
REFRESH-INTERVAL:P3D
CALSCALE:GREGORIAN
BEGIN:VEVENT
DTSTART:20240411T160000Z
DTEND:20240411T170000Z
X-MICROSOFT-CDO-ALLDAYEVENT:FALSE
SUMMARY:GRCC Public Safety Meeting
DESCRIPTION:GRCC Public Safety Community Meeting\n\nThe Greater Ravenswood Chamber of Commerce invites you to a Public Safety Community Meeting with the 19th Police District Council. Join us at The Perfect Cup on Thursday\, April 11th at 11am for a discussion among fellow local business professionals.\n\n\nAs community leaders in the neighborhood\, your voice is important. We want to hear your ideas for what public safety and policing looks like. This meeting will focus on short term\, immediate solutions to address the recent uptick of crime in the 19th District. After gathering your input and suggestions\, the council will meet with the CPD to determine specific\, measurable\, and achievable goals to work towards to help bring crime down in the community.\n\n\nThis event is free to attend. Because seating is limited\, registration is required. Fresh coffee will be provided by The Perfect Cup.\n\n\nAbout the 19th Police District Council:\n\n\nThe 19th Police District Council is an elected body focused on issues related to policing and public safety. After years of community activism to make policing more responsive to community needs\, in 2021 Chicago's City Council established District Councils in each of Chicago's 22 Police Districts.\n\n\nThe 19th Police District Council's vision is to work as a community\, advocating for a modernized vision of public safety and bringing forward solutions that address the root causes of crime- like investments in neighborhoods\, housing\, schools\, and mental health. Therefore\, the District Council is a tool for advancing innovative\, research-based strategies to increase safety in our neighborhoods. It's members also serve as community ambassadors to Chicago Police Department leaders and officers.\n\n\nAdditionally\, the District Council works to include and elevate marginalized voices\, empowering residents to drive changes in our public safety system. The Council does this by building strong relationships\, enrolling experts\, and connecting neighbors with one another and the resources available in our community.
X-ALT-DESC;FMTTYPE=text/html:<!-- wp:paragraph -->\n<p><span style="font-size:14px\;"><strong><span style="font-size:20px\;">GRCC Public Safety Community Meeting</span></strong></span></p>\n\n<p>The <a href="https://ravenswoodchicago.org/">Greater Ravenswood Chamber of Commerce</a> invites you to a Public Safety Community Meeting with the <a href="https://www.19thdistrictcouncil.com/">19th Police District Council</a>. Join us at The Perfect Cup on Thursday\, April 11th at 11am for a discussion among fellow local business professionals.</p>\n<!-- /wp:paragraph --><!-- wp:paragraph -->\n\n<p>As community leaders in the neighborhood\, your voice is important.<em><strong> We want to hear your ideas for what public safety and policing looks like.</strong></em> This meeting will focus on short term\, immediate solutions to address the recent uptick of crime in the 19th District. After gathering your input and suggestions\, the council will meet with the CPD to determine specific\, measurable\, and achievable goals to work towards to help bring crime down in the community.</p>\n<!-- /wp:paragraph --><!-- wp:paragraph -->\n\n<p><strong>This event is free to attend. Because seating is limited\, registration is required</strong>. Fresh coffee will be provided by The Perfect Cup.</p>\n<!-- /wp:paragraph --><!-- wp:heading -->\n\n<h2 class="wp-block-heading"><strong><span style="font-size:16px\;">About the 19th Police District Council:</span></strong></h2>\n<!-- /wp:heading --><!-- wp:paragraph -->\n\n<p>The 19th Police District Council is an elected body focused on issues related to policing and public safety. After years of community activism to make policing more responsive to community needs\, in 2021 Chicago&#39\;s City Council established District Councils in each of Chicago&#39\;s 22 Police Districts.</p>\n<!-- /wp:paragraph --><!-- wp:paragraph -->\n\n<p>The 19th Police District Council&#39\;s vision is to work as a community\, advocating for a modernized vision of public safety and bringing forward solutions that address the root causes of crime- like investments in neighborhoods\, housing\, schools\, and mental health. Therefore\, the District Council is a tool for advancing innovative\, research-based strategies to increase safety in our neighborhoods. It&#39\;s members also serve as community ambassadors to Chicago Police Department leaders and officers.</p>\n<!-- /wp:paragraph --><!-- wp:paragraph -->\n\n<p>Additionally\, the District Council works to include and elevate marginalized voices\, empowering residents to drive changes in our public safety system. The Council does this by building strong relationships\, enrolling experts\, and connecting neighbors with one another and the resources available in our community.</p>\n\n<p><!-- /wp:paragraph --></p>\n<!-- /wp:paragraph -->
LOCATION:The Perfect Cup 4700 N. Damen Ave. Chicago\, IL 60625
UID:e.2566.8388
SEQUENCE:3
DTSTAMP:20260422T014948Z
URL:https://business.ravenswoodchicago.org/events/details/grcc-public-safety-meeting-8388
END:VEVENT

END:VCALENDAR
