BEGIN:VCALENDAR
VERSION:2.0
PRODID:-//ChamberMaster//Event Calendar 2.0//EN
METHOD:PUBLISH
X-PUBLISHED-TTL:P3D
REFRESH-INTERVAL:P3D
CALSCALE:GREGORIAN
BEGIN:VEVENT
DTSTART:20250720T160000Z
DTEND:20250720T180000Z
X-MICROSOFT-CDO-ALLDAYEVENT:FALSE
SUMMARY:Frühschoppen Sunday Jazz Brunch on the Terrace ft. Pianist Thomas Gunther
DESCRIPTION:Savor the sounds of smooth jazz and the flavors of a delicious brunch at our second Fr hschoppen Jazz Brunch on the rooftop terrace of the DANK Haus! This time\, we're excited to feature the incredible Thomas Gunther\, a dynamic jazz pianist known for his soulful grooves and captivating style that will set the perfect tone for your Sunday. Enjoy a hand-picked selection of German brunch favorites\, refreshing drinks\, and great company--all inspired by the beloved German tradition of Fr hschoppen: a leisurely late-morning gathering with food\, music\, and conversation.
X-ALT-DESC;FMTTYPE=text/html:Savor the sounds of smooth jazz and the flavors of a delicious brunch at our second Fr&uuml\;hschoppen Jazz Brunch on the rooftop terrace of the DANK Haus! This time\, we&#39\;re excited to feature the incredible Thomas Gunther\, a dynamic jazz pianist known for his soulful grooves and captivating style that will set the perfect tone for your Sunday. Enjoy a hand-picked selection of German brunch favorites\, refreshing drinks\, and great company--all inspired by the beloved German tradition of Fr&uuml\;hschoppen: a leisurely late-morning gathering with food\, music\, and conversation.
LOCATION:4740 N Western Avenue\, Chicago\, IL 60626
UID:e.2566.14531
SEQUENCE:3
DTSTAMP:20260420T232126Z
URL:https://business.ravenswoodchicago.org/events/details/fr&#252;hschoppen-sunday-jazz-brunch-on-the-terrace-ft-pianist-thomas-gunther-14531
END:VEVENT

END:VCALENDAR
