BEGIN:VCALENDAR
VERSION:2.0
PRODID:-//ChamberMaster//Event Calendar 2.0//EN
METHOD:PUBLISH
X-PUBLISHED-TTL:P3D
REFRESH-INTERVAL:P3D
CALSCALE:GREGORIAN
BEGIN:VEVENT
DTSTART:20240818T170000Z
DTEND:20240818T190000Z
X-MICROSOFT-CDO-ALLDAYEVENT:FALSE
SUMMARY:Friends & Family Day at Color Me Mine! $20 studio fee for 4
DESCRIPTION:Join us for a Friends & Family Pottery Painting Day!\n\nFor just $20\, up to 4 painters can enjoy a fun-filled day at our studio.\n\nChoose your favorite ceramic pieces (priced separately) and create lasting memories as you paint and personalize them together.\n\nBring your loved ones and unleash your creativity!\n\n$20 covers studio fee for 4 painters (that's only $5/painter) \n\nEach group must paint 4 pieces to get $20 studio fee for 4 guests .
X-ALT-DESC;FMTTYPE=text/html:<p style="text-align:center"><strong><em>Join us for a Friends &amp\; Family Pottery Painting Day!</em></strong></p>\n\n<p style="text-align:center"><strong><em>For just $20\, up to 4 painters can enjoy a fun-filled day at our studio.</em></strong></p>\n\n<p style="text-align:center"><strong><em>Choose your favorite ceramic pieces (priced separately) and create lasting memories as you paint and personalize them together.</em></strong></p>\n\n<p style="text-align:center"><strong><em>Bring your loved ones and unleash your creativity!</em></strong></p>\n\n<p style="text-align:center"><strong><em>$20 covers studio fee for 4 painters (that&rsquo\;s only $5/painter)&nbsp\;</em></strong></p>\n\n<p style="text-align:center"><strong><em>Each group must paint 4 pieces to get $20 studio fee for 4 guests .</em></strong></p>\n
LOCATION:3849 N LINCOLN AVE\, CHICAGO\, IL 60613
UID:e.2566.11925
SEQUENCE:3
DTSTAMP:20260421T172642Z
URL:https://business.ravenswoodchicago.org/events/details/friends-family-day-at-color-me-mine-20-studio-fee-for-4-11925
END:VEVENT

END:VCALENDAR
