BEGIN:VCALENDAR
VERSION:2.0
PRODID:-//ChamberMaster//Event Calendar 2.0//EN
METHOD:PUBLISH
X-PUBLISHED-TTL:P3D
REFRESH-INTERVAL:P3D
CALSCALE:GREGORIAN
BEGIN:VEVENT
DTSTART:20250712T043000Z
DTEND:20250711T210000Z
X-MICROSOFT-CDO-ALLDAYEVENT:FALSE
SUMMARY:Fridays@Flourish - Ravenswood
DESCRIPTION:- Are you a Type 2 Diabetic? - Do you struggle with losing excess body fat? - Would you like to learn more about how research can benefit your healthcare journey? Kicking off on Friday\, July 11th\, Flourish Research Ravenswood will be hosting Fridays@Flourish from 11:30 am to 4 pm in the month of July. Every Friday\, we invite you to come to our site to enjoy a free lunch\, watch a physician-led presentation on the basics of clinical research\, and all attendees will receive a free A1C check.
X-ALT-DESC;FMTTYPE=text/html:- Are you a Type 2 Diabetic? - Do you struggle with losing excess body fat? - Would you like to learn more about how research can benefit your healthcare journey? Kicking off on Friday\, July 11th\, Flourish Research Ravenswood will be hosting Fridays@Flourish from 11:30 am to 4 pm in the month of July. Every Friday\, we invite you to come to our site to enjoy a free lunch\, watch a physician-led presentation on the basics of clinical research\, and all attendees will receive a free A1C check.
LOCATION:1945 West Wilson Ave. 6th floor.
UID:e.2566.14125
SEQUENCE:3
DTSTAMP:20260420T220410Z
URL:https://business.ravenswoodchicago.org/events/details/fridays-flourish-ravenswood-14125
END:VEVENT

END:VCALENDAR
