BEGIN:VCALENDAR
VERSION:2.0
PRODID:-//ChamberMaster//Event Calendar 2.0//EN
METHOD:PUBLISH
X-PUBLISHED-TTL:P3D
REFRESH-INTERVAL:P3D
CALSCALE:GREGORIAN
BEGIN:VEVENT
DTSTART:20240614T220000Z
DTEND:20240615T010000Z
X-MICROSOFT-CDO-ALLDAYEVENT:FALSE
SUMMARY:Free KOVAL Bottle Engraving on Bourbon Day!
DESCRIPTION:Purchase any KOVAL spirit in the store and receive a free bottle engraving!
X-ALT-DESC;FMTTYPE=text/html:Purchase any KOVAL spirit in the store and receive a free bottle engraving!
LOCATION:KOVAL Store 4241 N Ravenswood Ave Chicago\, IL 6013
UID:e.2566.8542
SEQUENCE:3
DTSTAMP:20260421T224029Z
URL:https://business.ravenswoodchicago.org/events/details/free-koval-bottle-engraving-on-bourbon-day-8542
END:VEVENT

END:VCALENDAR
