BEGIN:VCALENDAR
VERSION:2.0
PRODID:-//ChamberMaster//Event Calendar 2.0//EN
METHOD:PUBLISH
X-PUBLISHED-TTL:P3D
REFRESH-INTERVAL:P3D
CALSCALE:GREGORIAN
BEGIN:VEVENT
DTSTART:20250418T000000Z
DTEND:20250418T003000Z
X-MICROSOFT-CDO-ALLDAYEVENT:FALSE
SUMMARY:Free Guided Meditation at Bergen Counseling Collective
DESCRIPTION:Experience a free candlelight guided meditation designed to align your mind\, body\, and spirit with the energy of spring renewal. Under the soft glow of candlelight\, you will be guided through a peaceful meditation focused on awakening your senses\, arising with fresh energy\, and welcoming the abundance of the season. Through deep breathing\, visualization\, and mindfulness\, this session will help you release stress\, restore balance\, and embrace new beginnings. Suitable for all experience levels\, this meditation is a chance to reconnect with yourself and step into spring feeling refreshed and revitalized. Reserve your spot today!
X-ALT-DESC;FMTTYPE=text/html:Experience a <strong>free candlelight guided meditation</strong> designed to align your mind\, body\, and spirit with the energy of <strong>spring renewal</strong>. Under the soft glow of candlelight\, you will be guided through a peaceful meditation focused on <strong>awakening</strong> your senses\, <strong>arising</strong> with fresh energy\, and welcoming the <strong>abundance</strong> of the season. Through deep breathing\, visualization\, and mindfulness\, this session will help you release stress\, restore balance\, and embrace new beginnings. Suitable for all experience levels\, this meditation is a chance to reconnect with yourself and step into spring feeling refreshed and revitalized. <strong>Reserve your spot today!</strong>
LOCATION:Bergen Counseling Collective 4525 N. Ravenswood Ave #202 Chicago\, IL 60640
UID:e.2566.13636
SEQUENCE:3
DTSTAMP:20260421T044948Z
URL:https://business.ravenswoodchicago.org/events/details/free-guided-meditation-at-bergen-counseling-collective-13636
END:VEVENT

END:VCALENDAR
