BEGIN:VCALENDAR
VERSION:2.0
PRODID:-//ChamberMaster//Event Calendar 2.0//EN
METHOD:PUBLISH
X-PUBLISHED-TTL:P3D
REFRESH-INTERVAL:P3D
CALSCALE:GREGORIAN
BEGIN:VEVENT
DTSTART;VALUE=DATE:20250331
DTEND;VALUE=DATE:20250401
TRANSP:TRANSPARENT
X-MICROSOFT-CDO-ALLDAYEVENT:TRUE
SUMMARY:Free Community Class: woman’s WERKQ
DESCRIPTION:woman's WERKQ\n\ncommunity class\n\nwith Heather Zimny\n\nMonday\, March 31st\n\n5:00 PM - 6:00 PM\n\nFREE\n\n$15 suggested donation to support JHDC\n\n\n\nThis Women's History Month we honor the Women of Joel Hall.\n\nJoin Rehearsal Director Heather Zimny and learn an excerpt from Joel Hall's "Ne Me Quitte Pas!"
X-ALT-DESC;FMTTYPE=text/html:<h1><strong>woman&rsquo\;s WERKQ</strong></h1>\n\n<h1><strong>community class</strong></h1>\n\n<p><strong>with Heather Zimny</strong></p>\n\n<p><strong>Monday\, March 31st</strong></p>\n\n<p><strong>5:00 PM - 6:00 PM</strong></p>\n\n<p><a href="https://clients.mindbodyonline.com/classic/ws?studioid=20511&amp\;sclassid=2434&amp\;sDate=3/31/2025&amp\;sLoc=1&amp\;sTG=52&amp\;sType=1">FREE</a></p>\n\n<p><span style="font-size:11px"><em>$15 suggested donation to support JHDC</em></span></p>\n\n<p><br />\n<strong>This Women&#39\;s History Month we honor the Women of Joel Hall.</strong></p>\n\n<p><strong>Join Rehearsal Director Heather Zimny and learn an excerpt from Joel Hall&rsquo\;s &ldquo\;Ne Me Quitte Pas!&rdquo\;</strong><br />\n<br />\n&nbsp\;</p>\n
LOCATION:Joel Hall Dancers & Center 4511 N. Clark Street Chicago\, IL 60640
UID:e.2566.13645
SEQUENCE:3
DTSTAMP:20260421T073221Z
URL:https://business.ravenswoodchicago.org/events/details/free-community-class-woman-s-werkq-13645
END:VEVENT

END:VCALENDAR
