BEGIN:VCALENDAR
VERSION:2.0
PRODID:-//ChamberMaster//Event Calendar 2.0//EN
METHOD:PUBLISH
X-PUBLISHED-TTL:P3D
REFRESH-INTERVAL:P3D
CALSCALE:GREGORIAN
BEGIN:VEVENT
DTSTART:20250601T163000Z
DTEND:20250601T203000Z
X-MICROSOFT-CDO-ALLDAYEVENT:FALSE
SUMMARY:Forteza Fitness Grand Reopening!
DESCRIPTION:Celebrate Forteza's Grand Reopening with a full day of programming including a performance by The Pippins and exciting historical demos. Enjoy archery\, boffer sword fights\, and beginner lessons for all ages throughout the afternoon. Come join the fun!
X-ALT-DESC;FMTTYPE=text/html:Celebrate Forteza&rsquo\;s Grand Reopening with a full day of programming including a performance by The Pippins and exciting historical demos. Enjoy archery\, boffer sword fights\, and beginner lessons for all ages throughout the afternoon. Come join the fun!
LOCATION:4437 N Ravenswood Ave
UID:e.2566.14024
SEQUENCE:3
DTSTAMP:20260421T032250Z
URL:https://business.ravenswoodchicago.org/events/details/forteza-fitness-grand-reopening-14024
END:VEVENT

END:VCALENDAR
