BEGIN:VCALENDAR
VERSION:2.0
PRODID:-//ChamberMaster//Event Calendar 2.0//EN
METHOD:PUBLISH
X-PUBLISHED-TTL:P3D
REFRESH-INTERVAL:P3D
CALSCALE:GREGORIAN
BEGIN:VEVENT
DTSTART:20230101T170000Z
DTEND:20230102T000000Z
X-MICROSOFT-CDO-ALLDAYEVENT:FALSE
SUMMARY:Football\, Bingo and Happy Year Happy Hour @ Begyle Brewing
DESCRIPTION:Kick off 2023 in true Sunday Funday fashion with an all-day Happy Hour! Take $1 off all pints all day. Begyle will show the Bears/Lions game at noon\, followed immediately by Bingo at 3pm (free to play\, prizes for every round).
X-ALT-DESC;FMTTYPE=text/html:<span style="color: rgb(0\, 0\, 0)\; font-family: &quot\;Open Sans&quot\;\, sans-serif\; font-size: 14px\; white-space: pre-wrap\;">Kick off 2023 in true Sunday Funday fashion with an all-day Happy Hour! Take $1 off all pints all day. Begyle will show the <strong>Bears/Lions game</strong> at noon\, followed immediately by <strong>Bingo</strong> at 3pm (free to play\, prizes for every round).</span>
LOCATION:Begyle Brewing 1800 W Culyer Ave
UID:e.2566.5078
SEQUENCE:3
DTSTAMP:20260420T142234Z
URL:https://business.ravenswoodchicago.org/events/details/football-bingo-and-happy-year-happy-hour-begyle-brewing-5078
END:VEVENT

END:VCALENDAR
