BEGIN:VCALENDAR
VERSION:2.0
PRODID:-//ChamberMaster//Event Calendar 2.0//EN
METHOD:PUBLISH
X-PUBLISHED-TTL:P3D
REFRESH-INTERVAL:P3D
CALSCALE:GREGORIAN
BEGIN:VEVENT
DTSTART:20250809T150000Z
DTEND:20250809T170000Z
X-MICROSOFT-CDO-ALLDAYEVENT:FALSE
SUMMARY:Flourish: a creative courage & floral experience
DESCRIPTION:Join Laura Scout Coaching in collaboration with Verdant Place for a morning of journaling\, hypnosis\, and creating a hand-tied bouquet of fresh flowers to take home \n\n \n\nWe will explore the emotional side of creativity with an emphasis on play!\n\nWe'll experience new ways to trust ourselves more deeply in our creative process. \n\nYou'll leave with new practices to get unstuck whenever you feel resistance or uncertainty in creating your art\, work\, and life. \n\nYou'll have an array of beautiful flowers to choose from as you create a hand-tied bouquet to take home. \n\nRefreshments will be provided! Please bring your own journal!\n\n\n\nPlease click the link to purchase tickets.
X-ALT-DESC;FMTTYPE=text/html:<p>Join Laura Scout Coaching in collaboration with Verdant Place for a morning of journaling\, hypnosis\, and creating a hand-tied bouquet of fresh flowers to take home&nbsp\;</p>\n\n<p>&nbsp\;</p>\n\n<p>We will explore the emotional side of creativity with an emphasis on play!</p>\n\n<p>We&#39\;ll experience new ways to trust ourselves more deeply in our creative process.&nbsp\;</p>\n\n<p>You&#39\;ll leave with new practices to get unstuck whenever you feel resistance or uncertainty in creating your art\, work\, and life.&nbsp\;</p>\n\n<p>You&#39\;ll have an array of beautiful flowers to choose from as you create a hand-tied bouquet to take home.&nbsp\;</p>\n\n<p>Refreshments will be provided! Please bring your own journal!<br />\n<br />\n<!--StartFragment--><a href="https://www.verdantplace.co/flourish"><span data-olk-copy-source="MessageBody">Please click the link to purchase tickets.</span></a><!--EndFragment--></p>\n
LOCATION:Grand Garden\, 2048 W Grand Ave\, Chicago\, IL 60612 The entrance of Grand Garden is located in the alley\, two lots east of Liberation Kitchen\, in West Town.
UID:e.2566.14569
SEQUENCE:3
DTSTAMP:20260420T204305Z
URL:https://business.ravenswoodchicago.org/events/details/flourish-a-creative-courage-floral-experience-14569
END:VEVENT

END:VCALENDAR
