BEGIN:VCALENDAR
VERSION:2.0
PRODID:-//ChamberMaster//Event Calendar 2.0//EN
METHOD:PUBLISH
X-PUBLISHED-TTL:P3D
REFRESH-INTERVAL:P3D
CALSCALE:GREGORIAN
BEGIN:VEVENT
DTSTART:20250426T190000Z
DTEND:20250426T210000Z
X-MICROSOFT-CDO-ALLDAYEVENT:FALSE
SUMMARY:Floral Embroidery Photo Hoop
DESCRIPTION:Create an unexpected photo frame in this basic floral embroidery class taught by Jean Ogilvie of Sew Choice. Participants will use decorative stitches to construct roses\, leaves\, and framing stitches to secure a standard Instax photo*. Design will be stitched on felt and housed in a 6" hoop for hanging or tabletop display.\n\nTechniques include:\n\n\n	Wagon wheel stitch\n	Leaf (satin) stitch\n	French knots\n	Back stitch and straight stitch for functional purposes\n\n\nClass fee includes all needed materials\, including hoop\, felt\, threads\, needle\, and optional photo. Some basic prior sewing or embroidery experience is recommended (i.e.\, threading a needle\, straight stitch\, tying a knot).\n\n\n\nMakes a fantastic gift for your favorite caregiver!\n\n*Have a favorite photo? Bring it in. Want to create a new memory? Camera and film will be available onsite to take one! Final design accommodates Instax print size 2 1/8" x 3 3/8"
X-ALT-DESC;FMTTYPE=text/html:<p>Create an unexpected photo frame in this basic floral embroidery class taught by Jean Ogilvie of Sew Choice. Participants will use decorative stitches to construct roses\, leaves\, and framing stitches to secure a standard Instax photo*. Design will be stitched on felt and housed in a 6&rdquo\; hoop for hanging or tabletop display.<br />\nTechniques include:</p>\n\n<ul>\n	<li>Wagon wheel stitch</li>\n	<li>Leaf (satin) stitch</li>\n	<li>French knots</li>\n	<li>Back stitch and straight stitch for functional purposes</li>\n</ul>\n\n<p>Class fee includes all needed materials\, including hoop\, felt\, threads\, needle\, and optional photo. Some basic prior sewing or embroidery experience is recommended (i.e.\, threading a needle\, straight stitch\, tying a knot).<br />\n<br />\nMakes a fantastic gift for your favorite caregiver!</p>\n\n<p><em>*Have a favorite photo? Bring it in. Want to create a new memory? Camera and film will be&nbsp\;</em><em>available onsite to take one! Final design accommodates Instax print size 2 1/8&rdquo\; x 3 3/8&rdquo\;</em></p>\n
LOCATION:Maydel 1746 W Wilson Ave Chicago\, IL 60640
UID:e.2566.13616
SEQUENCE:3
DTSTAMP:20260421T060318Z
URL:https://business.ravenswoodchicago.org/events/details/floral-embroidery-photo-hoop-13616
END:VEVENT

END:VCALENDAR
