BEGIN:VCALENDAR
VERSION:2.0
PRODID:-//ChamberMaster//Event Calendar 2.0//EN
METHOD:PUBLISH
X-PUBLISHED-TTL:P3D
REFRESH-INTERVAL:P3D
CALSCALE:GREGORIAN
BEGIN:VEVENT
DTSTART:20250726T000000Z
DTEND:20250726T010000Z
X-MICROSOFT-CDO-ALLDAYEVENT:FALSE
SUMMARY:Final Fridays - Healing Vibes
DESCRIPTION:Healing Vibes: Immersive Sound Bath\nGive yourself the gift of deep relaxation and open up to the benefits of sound healing. Totally relax and let go!  Unplug from the stress and constant stimuli that surrounds us in modern society. Allow the healing sound and vibration of the gong and vibratory instruments to wash over your body and mind for clarity and total relaxation. Session starts with light breath work\, journaling and progressive relaxation to prepare the body and mind for a sound bath. We seal the energy of our journey with a short meditation.  \nFacilitated by Jana Scalzitti\nMATERIALS:\nBring your own yoga mat\, water bottle\, blanket\, journal and whatever you need to be comfortable.
X-ALT-DESC;FMTTYPE=text/html:Healing Vibes: Immersive Sound Bath\nGive yourself the gift of deep relaxation and open up to the benefits of sound healing. Totally relax and let go!  Unplug from the stress and constant stimuli that surrounds us in modern society. Allow the healing sound and vibration of the gong and vibratory instruments to wash over your body and mind for clarity and total relaxation. Session starts with light breath work\, journaling and progressive relaxation to prepare the body and mind for a sound bath. We seal the energy of our journey with a short meditation.  \nFacilitated by Jana Scalzitti\nMATERIALS:\nBring your own yoga mat\, water bottle\, blanket\, journal and whatever you need to be comfortable.
LOCATION:Cityside Center for Spiritual Living 4619 N Ravenswood Ave\, Suite 202 Chicago\, IL 60640
UID:e.2566.14534
SEQUENCE:3
DTSTAMP:20260420T225722Z
URL:https://business.ravenswoodchicago.org/events/details/final-fridays-healing-vibes-14534
END:VEVENT

END:VCALENDAR
