BEGIN:VCALENDAR
VERSION:2.0
PRODID:-//ChamberMaster//Event Calendar 2.0//EN
METHOD:PUBLISH
X-PUBLISHED-TTL:P3D
REFRESH-INTERVAL:P3D
CALSCALE:GREGORIAN
BEGIN:VEVENT
DTSTART:20250719T003000Z
DTEND:20250719T040000Z
X-MICROSOFT-CDO-ALLDAYEVENT:FALSE
SUMMARY:Feierabend | Cider Tasting
DESCRIPTION:Join us this July for a cozy evening of cider tasting in the 6th Floor Skyline Lounge at the DANK Haus. Sample a variety of traditional and modern ciders while enjoying a relaxed atmosphere and scenic views of Lincoln Square and beyond. Whether you're a cider lover or just in it for good vibes and good company\, this is the perfect way to wind down a summer evening. Prost!
X-ALT-DESC;FMTTYPE=text/html:Join us this July for a cozy evening of cider tasting in the 6th Floor Skyline Lounge at the DANK Haus. Sample a variety of traditional and modern ciders while enjoying a relaxed atmosphere and scenic views of Lincoln Square and beyond. Whether you&#39\;re a cider lover or just in it for good vibes and good company\, this is the perfect way to wind down a summer evening. Prost!
LOCATION:4740 N Western Avenue\, Chicago\, IL 60625
UID:e.2566.14542
SEQUENCE:3
DTSTAMP:20260420T214715Z
URL:https://business.ravenswoodchicago.org/events/details/feierabend-cider-tasting-14542
END:VEVENT

END:VCALENDAR
