BEGIN:VCALENDAR
VERSION:2.0
PRODID:-//ChamberMaster//Event Calendar 2.0//EN
METHOD:PUBLISH
X-PUBLISHED-TTL:P3D
REFRESH-INTERVAL:P3D
CALSCALE:GREGORIAN
BEGIN:VEVENT
DTSTART:20250703T190000Z
DTEND:20250703T233000Z
X-MICROSOFT-CDO-ALLDAYEVENT:FALSE
SUMMARY:Facial Fridays are Here
DESCRIPTION:$99 | 30-Minute Corrective Facial Facial Fridays are your new end-of-week ritual designed for real skin goals\, not fluff. This 30-minute corrective facial blends clinical precision with a boutique experience\, delivering visible glow and targeted results in just one session. Each facial is customized based on your primary concern. Choose your focus: Bright & Smooth   Targets dullness\, discoloration\, and rough texture Calm & Correct   Ideal for inflamed\, acne-prone\, or sensitive skin Firm & Glow   Hydrating with light sculpting massage for instant lift Want More Glow? Enhance your experience with one of our $25 upgrade options\, only available on Facial Fridays: RF SkinTight    Lift & firm the cheeks or jawline Dermaplaning   Instantly smooth texture & boost product absorption LipoLaser  Mini   20-minute contour treatment for abdomen or arms.
X-ALT-DESC;FMTTYPE=text/html:$99 | 30-Minute Corrective Facial Facial Fridays are your new end-of-week ritual&mdash\;designed for real skin goals\, not fluff. This 30-minute corrective facial blends clinical precision with a boutique experience\, delivering visible glow and targeted results in just one session. Each facial is customized based on your primary concern. Choose your focus: Bright &amp\; Smooth &ndash\; Targets dullness\, discoloration\, and rough texture Calm &amp\; Correct &ndash\; Ideal for inflamed\, acne-prone\, or sensitive skin Firm &amp\; Glow &ndash\; Hydrating with light sculpting massage for instant lift Want More Glow? Enhance your experience with one of our $25 upgrade options\, only available on Facial Fridays: RF SkinTight&trade\; &ndash\; Lift &amp\; firm the cheeks or jawline Dermaplaning &ndash\; Instantly smooth texture &amp\; boost product absorption LipoLaser&trade\; Mini &ndash\; 20-minute contour treatment for abdomen or arms.
LOCATION:Smooth House Laser 4043 N Ravenswood Chicago Illinois 60613
UID:e.2566.14537
SEQUENCE:3
DTSTAMP:20260420T231809Z
URL:https://business.ravenswoodchicago.org/events/details/facial-fridays-are-here-14537
END:VEVENT

END:VCALENDAR
