BEGIN:VCALENDAR
VERSION:2.0
PRODID:-//ChamberMaster//Event Calendar 2.0//EN
METHOD:PUBLISH
X-PUBLISHED-TTL:P3D
REFRESH-INTERVAL:P3D
CALSCALE:GREGORIAN
BEGIN:VEVENT
DTSTART:20241214T190000Z
DTEND:20241214T210000Z
X-MICROSOFT-CDO-ALLDAYEVENT:FALSE
SUMMARY:Embroider a Vintage Chicago Postcard with Connie Toebe
DESCRIPTION:In this class you'll learn how to embroider on a (reproduction) vintage Chicago postcard. You'll be learning how to prep the postcard for embroidery and then learn three embroidery stitches: back stitch\, whipped back stitch and French knots. By the end of the class you'll have a fun\, retro picture to frame or give as a gift.\n\nClass fee includes all materials\, including reproduction vintage postcard\, wood handled awl\, embroidery floss and needle.\n\n**Note: Are you a left-handed stitcher? Connie is\, too! She can demonstrate all of the techniques covered for both right-and left-handed stitchers.
X-ALT-DESC;FMTTYPE=text/html:<p>In this class you&rsquo\;ll learn how to embroider on a (reproduction) vintage Chicago postcard. You&rsquo\;ll be learning how to prep the postcard for embroidery and then learn three embroidery stitches: back stitch\, whipped back stitch and French knots. By the end of the class you&rsquo\;ll have a fun\, retro picture to frame or give as a gift.</p>\n\n<p>Class fee includes all materials\, including reproduction vintage postcard\, wood handled awl\, embroidery floss and needle.</p>\n\n<p><em>**Note: Are you a left-handed stitcher? Connie is\, too! She can demonstrate all of the techniques covered for both right-and left-handed stitchers.&nbsp\;</em></p>\n
LOCATION:1746 W Wilson Ave. 60640
UID:e.2566.12179
SEQUENCE:3
DTSTAMP:20260421T114511Z
URL:https://business.ravenswoodchicago.org/events/details/embroider-a-vintage-chicago-postcard-with-connie-toebe-12-14-2024-12179
END:VEVENT

END:VCALENDAR
