BEGIN:VCALENDAR
VERSION:2.0
PRODID:-//ChamberMaster//Event Calendar 2.0//EN
METHOD:PUBLISH
X-PUBLISHED-TTL:P3D
REFRESH-INTERVAL:P3D
CALSCALE:GREGORIAN
BEGIN:VEVENT
DTSTART:20240927T000000Z
DTEND:20240927T030000Z
X-MICROSOFT-CDO-ALLDAYEVENT:FALSE
SUMMARY:Dinners For Democracy
DESCRIPTION:Ravenswood Loft is hosting a delightful and delicious 4-part series of private dining experiences to benefit the 2024 Democratic Presidential ticket and in support of Democratic tickets nation wide via ActBlue.  Each private dining experience will include up-to 28 guests with table service at a communal table. \n\n\n\nDinners for Democracy will include:\n\n	Cocktail hour\n	A 5-course meal\n	Live musical entertainment with Paul Asaro\n\n\n$100/guest with all profits *donated to the Democratic National Party via ActBlue.com\n\n(*guests may opt to donate profit portion directly. See details below)\n\n \n\n\nMenu: Thursday\, September 26\n\n\n\n	Specialty cocktail & choice of wines and non alcoholic beverages\n	Arugula & Goat Cheese Salad\n	Gazpacho \n	Linguini with fresh Tomato\, Pancetta\, Basil\, Pine Nuts (Pancetta optional)\n\n\nPlease select vegetarian option below:\n\n\n	Cheese Course\n	Pana Cotta \n\n\nWe are very pleased to have the opportunity to have you join us in support of Democratic election races\, specifically the Harris/Walz ticket. \n\n\n\nThe costs portion of the event includes:\n\n\n	Service Staff *\n	Entertainment *\n	Food & Beverage Costs **\n\n\n*Service & Entertainment personnel may elect to donate their pay to the Democratic ticket. Tips are welcomed. \n\n**We are thrilled to support & be supported by Global Gardens Refugee Training Farm in the form of wholesale\, farm fresh vegetables\n\nAll other food prep\, marketing & venue expenses are being donated. \n\n \nRavenswood Loft\n\n4437 N Ravenswood\n\nFree street parking available\n\nRavenswood Loft is on the second floor\, and is only accessible via 20 stairs.
X-ALT-DESC;FMTTYPE=text/html:<span style="font-size:14px\;"><span style="font-family:arial\;"><span style="color: rgb(32\, 33\, 36)\;">Ravenswood Loft is hosting a delightful and delicious 4-part series of private dining experiences to benefit the 2024 Democratic Presidential ticket and in support of Democratic tickets nation wide via ActBlue.&nbsp\; Each private dining experience will include up-to 28 guests with table service at a communal table.&nbsp\;</span><br />\n<br />\n<span style="color: rgb(32\, 33\, 36)\;">Dinners for Democracy will include:</span></span></span>\n<ul>\n	<li><span style="font-size:14px\;"><span style="font-family:arial\;"><span style="color: rgb(32\, 33\, 36)\;">Cocktail hour</span></span></span></li>\n	<li><span style="font-size:14px\;"><span style="font-family:arial\;"><span style="color: rgb(32\, 33\, 36)\;">A 5-course meal</span></span></span></li>\n	<li><span style="font-size:14px\;"><span style="font-family:arial\;"><span style="color: rgb(32\, 33\, 36)\;">Live musical entertainment with Paul Asaro</span></span></span></li>\n</ul>\n\n<div><span style="font-size:14px\;"><span style="font-family:arial\;">$100/guest with all profits *donated to the Democratic National Party via ActBlue.com</span></span></div>\n\n<div><span style="font-size:14px\;"><span style="font-family:arial\;">(*guests may opt to donate profit portion directly. See details below)</span></span><br />\n&nbsp\;</div>\n\n<div>\n<div><span style="font-size:14px\;"><span style="font-family:arial\;">Menu: Thursday\, September 26</span></span></div>\n\n<div>\n<ul>\n	<li><span style="font-size:14px\;"><span style="font-family:arial\;">Specialty cocktail &amp\; choice of wines and non alcoholic beverages</span></span></li>\n	<li><span style="font-size:14px\;"><span style="font-family:arial\;">Arugula &amp\; Goat Cheese Salad</span></span></li>\n	<li><span style="font-size:14px\;"><span style="font-family:arial\;">Gazpacho&nbsp\;</span></span></li>\n	<li><span style="font-size:14px\;"><span style="font-family:arial\;">Linguini with fresh Tomato\, Pancetta\, Basil\, Pine Nuts&nbsp\;(Pancetta optional)</span></span></li>\n</ul>\n\n<div><span style="font-size:14px\;"><span style="font-family:arial\;">Please select vegetarian option below:</span></span></div>\n\n<ul>\n	<li><span style="font-size:14px\;"><span style="font-family:arial\;">Cheese Course</span></span></li>\n	<li><span style="font-size:14px\;"><span style="font-family:arial\;"><span style="font-size:14px\;"><span style="font-family:arial\;">Pana Cotta&nbsp\;</span></span></span></span></li>\n</ul>\n\n<div><span style="font-size:14px\;"><span style="font-family:arial\;"><span style="color: rgb(32\, 33\, 36)\;">We are very pleased to have the opportunity to have you join us in support of Democratic election races\, specifically the Harris/Walz ticket.&nbsp\;</span><br />\n<br />\n<span style="color: rgb(32\, 33\, 36)\;">The costs portion of the event includes:</span></span></span>\n\n<ul>\n	<li><span style="font-size:14px\;"><span style="font-family:arial\;">Service Staff *</span></span></li>\n	<li><span style="font-size:14px\;"><span style="font-family:arial\;">Entertainment *</span></span></li>\n	<li><span style="font-size:14px\;"><span style="font-family:arial\;">Food &amp\; Beverage Costs **</span></span></li>\n</ul>\n\n<div><span style="font-size:14px\;"><span style="font-family:arial\;">*Service &amp\; Entertainment personnel may elect to donate their pay to the Democratic ticket. Tips are welcomed.&nbsp\;</span></span></div>\n\n<div><span style="font-size:14px\;"><span style="font-family:arial\;">**We are thrilled to support &amp\; be supported by Global Gardens Refugee Training Farm in the form of wholesale\, farm fresh vegetables<br />\nAll other food prep\, marketing &amp\; venue expenses are being donated.&nbsp\;</span></span><br />\n&nbsp\;\n<div><span style="font-size: 14px\;"><span style="font-family: arial\;">Ravenswood Loft<br />\n4437 N Ravenswood</span></span></div>\n\n<div><span style="font-size: 14px\;"><span style="font-family: arial\;">Free street parking available</span></span></div>\n\n<div><span style="font-size: 14px\;"><span style="font-family: arial\;">Ravenswood Loft is on the second floor\, and is only accessible via 20 stairs.</span></span></div>\n</div>\n</div>\n</div>\n</div>\n
LOCATION:Ravenswood Loft 4437 N Ravenswood
UID:e.2566.11975
SEQUENCE:3
DTSTAMP:20260421T170251Z
URL:https://business.ravenswoodchicago.org/events/details/dinners-for-democracy-09-26-2024-11975
END:VEVENT

END:VCALENDAR
