BEGIN:VCALENDAR
VERSION:2.0
PRODID:-//ChamberMaster//Event Calendar 2.0//EN
METHOD:PUBLISH
X-PUBLISHED-TTL:P3D
REFRESH-INTERVAL:P3D
CALSCALE:GREGORIAN
BEGIN:VEVENT
DTSTART:20221207T233000Z
DTEND:20221208T010000Z
X-MICROSOFT-CDO-ALLDAYEVENT:FALSE
SUMMARY:December Free Business Networking Happy Hour
DESCRIPTION:Our free monthly business networking event helps build community\, connect\, learn and grow our businesses all while making new friends.\n\n\n\nPlease join us on Wednesday\, December 7th at 5:30PM for conversation and refreshments. \n\n\n\nThis month\, we will be co-hosting with Melissa Bowman-- candle maker extraordinaire with Refinity Candle Co. Refinity is a new\, sustainable approach to luxury scented candles. We upcycle empty candle jars into brand new candles\, using sustainable and intentionally sourced materials\, so you can enjoy the ambiance\, guilt free!\n\n?
X-ALT-DESC;FMTTYPE=text/html:Our free monthly business networking event helps build community\, connect\, learn and grow our businesses all while making new friends.<br />\n<br />\nPlease join us on Wednesday\, December 7th at 5:30PM for conversation and refreshments.&nbsp\;<br />\n<br />\nThis month\, we will be co-hosting with Melissa Bowman-- candle maker extraordinaire with Refinity Candle Co. Refinity is a new\, sustainable approach to luxury scented candles. We upcycle empty candle jars into brand new candles\, using sustainable and intentionally sourced materials\, so you can enjoy the ambiance\, guilt free!<br />\n?
LOCATION:New Day Network Wellness Center 4308 N. Lincoln Avenue Chicago\, IL 60618
UID:e.2566.5055
SEQUENCE:3
DTSTAMP:20260420T141748Z
URL:https://business.ravenswoodchicago.org/events/details/december-free-business-networking-happy-hour-5055
END:VEVENT

END:VCALENDAR
