BEGIN:VCALENDAR
VERSION:2.0
PRODID:-//ChamberMaster//Event Calendar 2.0//EN
METHOD:PUBLISH
X-PUBLISHED-TTL:P3D
REFRESH-INTERVAL:P3D
CALSCALE:GREGORIAN
BEGIN:VEVENT
DTSTART:20250608T190000Z
DTEND:20250608T210000Z
X-MICROSOFT-CDO-ALLDAYEVENT:FALSE
SUMMARY:Cross-Stitch for Beginners with Stephanie Rohr
DESCRIPTION:Learn the basics of cross-stitch with Stephanie Rohr\, cross-stitch artist and author of Feminist Cross-Stitch and Self-Care Cross-Stitch.\n\nThis class will teach you everything you need to know to create your first cross-stitch project\, from threading a needle to reading a pattern.\n\nRegistration fee includes all materials\, including canvas\, thread\, a needle\, a hoop\, plus a printed pattern and instructions.
X-ALT-DESC;FMTTYPE=text/html:<p>Learn the basics of cross-stitch with Stephanie Rohr\, cross-stitch artist and author of&nbsp\;<em>Feminist Cross-Stitch</em>&nbsp\;and&nbsp\;<em>Self-Care Cross-Stitch</em>.</p>\n\n<p>This class will teach you everything you need to know to create your first cross-stitch project\, from threading a needle to reading a pattern.</p>\n\n<p>Registration fee includes all materials\, including canvas\, thread\, a needle\, a hoop\, plus a printed pattern and instructions.</p>\n
LOCATION:1746 W Wilson Ave. 60640
UID:e.2566.13971
SEQUENCE:3
DTSTAMP:20260421T032036Z
URL:https://business.ravenswoodchicago.org/events/details/cross-stitch-for-beginners-with-stephanie-rohr-13971
END:VEVENT

END:VCALENDAR
