BEGIN:VCALENDAR
VERSION:2.0
PRODID:-//ChamberMaster//Event Calendar 2.0//EN
METHOD:PUBLISH
X-PUBLISHED-TTL:P3D
REFRESH-INTERVAL:P3D
CALSCALE:GREGORIAN
BEGIN:VEVENT
DTSTART:20251004T170000Z
DTEND:20251004T180000Z
X-MICROSOFT-CDO-ALLDAYEVENT:FALSE
SUMMARY:Community Event: Reiki Healing Class with Sun
DESCRIPTION:Community Class: Reiki Healing with Sun.\n\n\n\nDate:\n\nOctober 4th\, 2025\n\n12pm-1pm\n\n\n\nLocation:\n\nJoel Hall Dancers & Center\n\n4511 N Clark St.\n\nChicago\, IL 60640\n\n \nExperience deep rest and renewal with Haitian American healer Sun Calixte. This workshop blends guided meditation\, sound healing\, and aromatherapy with the sacred Haitian practice of laying of hands similar to Reiki\, yet rooted in ancestral tradition.\n\nPresented in partnership with the Haitian American Museum of Chicago and the Chicago Cultural Alliance "Journey Chicago" programs.
X-ALT-DESC;FMTTYPE=text/html:Community Class: Reiki Healing with Sun.<br />\n<br />\nDate:<br />\nOctober 4th\, 2025<br />\n12pm-1pm<br />\n<br />\nLocation:<br />\nJoel Hall Dancers &amp\; Center<br />\n4511 N Clark St.<br />\nChicago\, IL 60640<br />\n&nbsp\;\n<div>Experience deep rest and renewal with Haitian American healer Sun Calixte. This workshop blends guided meditation\, sound healing\, and aromatherapy with the sacred Haitian practice of laying of hands&mdash\;similar to Reiki\, yet rooted in ancestral tradition.</div>\n\n<p>Presented in partnership with the Haitian American Museum of Chicago and the Chicago Cultural Alliance &ldquo\;Journey Chicago&rdquo\; programs.</p>\n
LOCATION:Joel Hall Dancers & Center 4511 N Clark Street Chicago\, IL 60640
UID:e.2566.14596
SEQUENCE:3
DTSTAMP:20260421T082129Z
URL:https://business.ravenswoodchicago.org/events/details/community-event-reiki-healing-class-with-sun-14596
END:VEVENT

END:VCALENDAR
