BEGIN:VCALENDAR
VERSION:2.0
PRODID:-//ChamberMaster//Event Calendar 2.0//EN
METHOD:PUBLISH
X-PUBLISHED-TTL:P3D
REFRESH-INTERVAL:P3D
CALSCALE:GREGORIAN
BEGIN:VEVENT
DTSTART:20250627T000000Z
DTEND:20250627T023000Z
X-MICROSOFT-CDO-ALLDAYEVENT:FALSE
SUMMARY:Common Pantry’s Summer Wine Social
DESCRIPTION:Unwind and uncork with us! Our beloved Summer Wine Social returns and you're invited! Join us for an evening of tasting delectable wines with paired bites from local vendors and a raffle fitted for any wine aficionado. Early bird and VIP tickets available. For more information and to purchase tickets visit our website.
X-ALT-DESC;FMTTYPE=text/html:<span style="background-color:transparent\; color:rgb(0\, 0\, 0)\; font-family:arial\,sans-serif\; font-size:11pt">Unwind and uncork with us! Our beloved Summer Wine Social returns and you&#39\;re invited! Join us for an evening of tasting delectable wines with paired bites from local vendors and a raffle fitted for any wine aficionado. Early bird and VIP tickets available. For more information and to purchase tickets visit our <a href="https://secure.qgiv.com/for/summerwinesocial/event/summerwinesocial2025/">website</a>. </span>
LOCATION:Common Pantry 3908 N Lincoln Ave Chicago\, IL 60613
UID:e.2566.14000
SEQUENCE:3
DTSTAMP:20260421T015425Z
URL:https://business.ravenswoodchicago.org/events/details/common-pantry-s-summer-wine-social-06-26-2025-14000
END:VEVENT

END:VCALENDAR
