BEGIN:VCALENDAR
VERSION:2.0
PRODID:-//ChamberMaster//Event Calendar 2.0//EN
METHOD:PUBLISH
X-PUBLISHED-TTL:P3D
REFRESH-INTERVAL:P3D
CALSCALE:GREGORIAN
BEGIN:VEVENT
DTSTART:20240816T000000Z
DTEND:20240816T010000Z
X-MICROSOFT-CDO-ALLDAYEVENT:FALSE
SUMMARY:Cocktail Class - Summertime Gin Cocktails
DESCRIPTION:KOVAL's resident mixologist will walk participants through making three cocktails. During this class\, you will learn how to make three cocktails in the sour category including KOVAL's own Ravenswood Whiskey Sour\, the Rose Hip Bouquet\, and the Let it Linger.
X-ALT-DESC;FMTTYPE=text/html:<span style="color:rgb(0\, 0\, 0)\; font-family:libre franklin\; font-size:14px">KOVAL&rsquo\;s resident mixologist will walk participants through making three cocktails. During this class\, you will learn how to make three cocktails in the sour category including KOVAL&#39\;s own Ravenswood Whiskey Sour\, the Rose Hip Bouquet\, and the Let it Linger.</span>
LOCATION:KOVAL Tasting Room 4241 N Ravenswood Ave Chicago\, IL 60613
UID:e.2566.11899
SEQUENCE:3
DTSTAMP:20260422T151633Z
URL:https://business.ravenswoodchicago.org/events/details/cocktail-class-summertime-gin-cocktails-11899
END:VEVENT

END:VCALENDAR
