BEGIN:VCALENDAR
VERSION:2.0
PRODID:-//ChamberMaster//Event Calendar 2.0//EN
METHOD:PUBLISH
X-PUBLISHED-TTL:P3D
REFRESH-INTERVAL:P3D
CALSCALE:GREGORIAN
BEGIN:VEVENT
DTSTART:20250724T000000Z
DTEND:20250724T013000Z
X-MICROSOFT-CDO-ALLDAYEVENT:FALSE
SUMMARY:Cocktail Class - Prohibition Era Cocktails
DESCRIPTION:Mix things up in this fun and educational class with KOVAL Distillery.\n\nLearn about the history of spirits in the Prohibition era and KOVAL's place in the lineage of distilling post-Prohibition. KOVAL's resident mixologist will walk participants through shaking classic cocktails while exploring little-known facts about a fascinating time in our country's history.\n\nClass includes the instruction and enjoyment of 3 cocktails\, with the guidance of an instructor and provided recipes. All bartending equipment is included - show up ready to learn!
X-ALT-DESC;FMTTYPE=text/html:<p>Mix things up in this fun and educational class with KOVAL Distillery.</p>\n\n<p>Learn about the history of spirits in the Prohibition era and KOVAL&#39\;s place in the lineage of distilling post-Prohibition. KOVAL&rsquo\;s resident mixologist will walk participants through shaking classic cocktails while exploring little-known facts about a fascinating time in our country&#39\;s history.</p>\n\n<p>Class includes the instruction and enjoyment of 3 cocktails\, with the guidance of an instructor and provided recipes. All bartending equipment is included - show up ready to learn!</p>\n
LOCATION:4241 North Ravenswood Avenue Chicago\, IL 60613
UID:e.2566.14123
SEQUENCE:3
DTSTAMP:20260420T215527Z
URL:https://business.ravenswoodchicago.org/events/details/cocktail-class-prohibition-era-cocktails-07-23-2025-14123
END:VEVENT

END:VCALENDAR
