BEGIN:VCALENDAR
VERSION:2.0
PRODID:-//ChamberMaster//Event Calendar 2.0//EN
METHOD:PUBLISH
X-PUBLISHED-TTL:P3D
REFRESH-INTERVAL:P3D
CALSCALE:GREGORIAN
BEGIN:VEVENT
DTSTART:20250710T000000Z
DTEND:20250710T013000Z
X-MICROSOFT-CDO-ALLDAYEVENT:FALSE
SUMMARY:Cocktail Class - Evolution of the Old Fashioned
DESCRIPTION:Explore the varied history of one of the most popular cocktails in the world in this fun and educational class.\n\n\n\nKOVAL's resident mixologist will walk participants through preparing three versions of the well-known Old Fashioned while exploring little-known facts about this classic and beloved cocktail.\n\n\n\nClass includes the instruction and enjoyment of 3 cocktails\, with the guidance of an instructor and provided recipes. All bartending equipment is included - simply show up ready to learn!?
X-ALT-DESC;FMTTYPE=text/html:<span style="color:rgb(0\, 0\, 0)\; font-family:libre franklin\; font-size:14px">Explore the varied history of one of the most popular cocktails in the world in this fun and educational class.</span><br />\n<br />\n<span style="color:rgb(0\, 0\, 0)\; font-family:libre franklin\; font-size:14px">KOVAL&rsquo\;s resident mixologist will walk participants through preparing three versions of the well-known Old Fashioned while exploring little-known facts about this classic and beloved cocktail.</span><br />\n<br />\n<span style="color:rgb(0\, 0\, 0)\; font-family:libre franklin\; font-size:14px">Class includes the instruction and enjoyment of 3 cocktails\, with the guidance of an instructor and provided recipes. All bartending equipment is included - simply show up ready to learn!</span><strong>?</strong>
LOCATION:4241 North Ravenswood Avenue Chicago\, IL 60613
UID:e.2566.14122
SEQUENCE:3
DTSTAMP:20260420T215157Z
URL:https://business.ravenswoodchicago.org/events/details/cocktail-class-evolution-of-the-old-fashioned-07-09-2025-14122
END:VEVENT

END:VCALENDAR
