BEGIN:VCALENDAR
VERSION:2.0
PRODID:-//ChamberMaster//Event Calendar 2.0//EN
METHOD:PUBLISH
X-PUBLISHED-TTL:P3D
REFRESH-INTERVAL:P3D
CALSCALE:GREGORIAN
BEGIN:VEVENT
DTSTART:20240810T230000Z
DTEND:20240811T003000Z
X-MICROSOFT-CDO-ALLDAYEVENT:FALSE
SUMMARY:Cocktail Class at Freyja Salon
DESCRIPTION:Join us on Saturday\, August 10th as Gabi Medina of Chuchaqui Cocktails leads a "Rum Two Ways" cocktail class!\n\nWhat To Expect:\n\nStudents will be greeted with a Daiquiri to showcase light rum in a simple recipe. We'll briefly review a history of rum and how to look for something better than most of us drank in college. \n\nThen we will build and make a Mai Tai cocktail as an entry into Tiki recipes. We'll talk through a brief history of Tiki and how to make it more accessible.\n\nBonus: we'll touch on the world of garnishes! The Mai Tai usually comes with an elaborate bouquet on the side while a Daiquiri can come without a garnish at all.\n\nWhere: Freyja Salon\, 4955 N. Damen Ave\n\nPrice: $35/per person
X-ALT-DESC;FMTTYPE=text/html:<p><span style="background-color:transparent\; color:rgb(0\, 0\, 0)\; font-family:arial\,sans-serif\; font-size:11pt">Join us on Saturday\, August 10th as Gabi Medina of Chuchaqui Cocktails leads a &quot\;Rum Two Ways&quot\; cocktail class!</span></p>\n\n<p><u><strong><span style="background-color:transparent\; color:rgb(0\, 0\, 0)\; font-family:arial\,sans-serif\; font-size:11pt">What To Expect</span></strong></u><strong><span style="background-color:transparent\; color:rgb(0\, 0\, 0)\; font-family:arial\,sans-serif\; font-size:11pt">:</span></strong></p>\n\n<p><span style="background-color:transparent\; color:rgb(0\, 0\, 0)\; font-family:arial\,sans-serif\; font-size:11pt">Students will be greeted with a Daiquiri to showcase light rum in a simple recipe. We&#39\;ll briefly review a history of rum and how to look for something better than most of us drank in college.&nbsp\;</span></p>\n\n<p><span style="background-color:transparent\; color:rgb(0\, 0\, 0)\; font-family:arial\,sans-serif\; font-size:11pt">Then we will build and make a Mai Tai cocktail as an entry into Tiki recipes. We&#39\;ll talk through a brief history of Tiki and how to make it more accessible.</span></p>\n\n<p><span style="background-color:transparent\; color:rgb(0\, 0\, 0)\; font-family:arial\,sans-serif\; font-size:11pt">Bonus: we&#39\;ll touch on the world of garnishes! The Mai Tai usually comes with an elaborate bouquet on the side while a Daiquiri can come without a garnish at all.</span></p>\n\n<p><span style="background-color:transparent\; color:rgb(0\, 0\, 0)\; font-family:arial\,sans-serif\; font-size:11pt"><u><strong>Where</strong></u><strong>:</strong> Freyja Salon\, 4955 N. Damen Ave</span></p>\n\n<p><span style="background-color:transparent\; color:rgb(0\, 0\, 0)\; font-family:arial\,sans-serif\; font-size:11pt"><u><strong>Price</strong></u><strong>:</strong> $35/per person</span></p>\n\n<div>&nbsp\;</div>\n
LOCATION:Freyja Salon\, 4955 N. Damen Ave
UID:e.2566.11910
SEQUENCE:3
DTSTAMP:20260421T181740Z
URL:https://business.ravenswoodchicago.org/events/details/cocktail-class-at-freyja-salon-11910
END:VEVENT

END:VCALENDAR
