BEGIN:VCALENDAR
VERSION:2.0
PRODID:-//ChamberMaster//Event Calendar 2.0//EN
METHOD:PUBLISH
X-PUBLISHED-TTL:P3D
REFRESH-INTERVAL:P3D
CALSCALE:GREGORIAN
BEGIN:VEVENT
DTSTART:20240907T160000Z
DTEND:20240908T210000Z
X-MICROSOFT-CDO-ALLDAYEVENT:FALSE
SUMMARY:Chicago Ceramics Crawl
DESCRIPTION:Join us in celebrating Chicago's vibrant ceramics community! This self guided ceramics tour allows participants to experience a variety of ceramic artists and spaces. Purchase locally made pottery\, watch live demonstrations and more! https://www.thedigschicago.com/chicago-ceramincs-crawl
X-ALT-DESC;FMTTYPE=text/html:Join us in celebrating Chicago&#39\;s vibrant ceramics community! This self guided ceramics tour allows participants to experience a variety of ceramic artists and spaces. Purchase locally made pottery\, watch live demonstrations and more! https://www.thedigschicago.com/chicago-ceramincs-crawl
LOCATION:Lillstreet Art Center The Digs Chicago Bridgeport Art Center (Shared Floor) Midwest Clay Guild Ceramics Supply Chicago Studio 4040 Chicago Ceramic Center (Rockwell on the River) Ceramics by Leo
UID:e.2566.11947
SEQUENCE:3
DTSTAMP:20260421T170131Z
URL:https://business.ravenswoodchicago.org/events/details/chicago-ceramics-crawl-11947
END:VEVENT

END:VCALENDAR
