BEGIN:VCALENDAR
VERSION:2.0
PRODID:-//ChamberMaster//Event Calendar 2.0//EN
METHOD:PUBLISH
X-PUBLISHED-TTL:P3D
REFRESH-INTERVAL:P3D
CALSCALE:GREGORIAN
BEGIN:VEVENT
DTSTART:20241130T170000Z
DTEND:20241130T230000Z
X-MICROSOFT-CDO-ALLDAYEVENT:FALSE
SUMMARY:Chicago Artisan Market in Ravenswood - "Small Shop Saturday" & Sunday\, Nov 30-Dec 1
DESCRIPTION:"Every time a bell rings\, a small business gets its wings."\n\n- Chicago Artisan Market \n\n\n\nThe Chicago Artisan Market in Ravenswood is returning to Artifact Events on "Small Shop Saturday" & Sunday (Nov 30-Dec 1\, 2024) for a special 2-day market over Thanksgiving weekend. Start a new holiday tradition of re-connecting with friends & family\, while supporting local businesses!\n\n\n\nThis year\, shopping small\, LOCAL & sustainable -- is about to get a little bigger. Our "little market that could" is expanding to encompass both sides of the Artifact Events buildings (4325 N. Ravenswood Ave.\, Chicago). We are thrilled to be showcasing 200+ talented Chicago artisans in food\, fashion\, home goods & art.  \n\n(i.e. Two buildings\, two stories each\, and all connected indoors!)\n\n\n\n* WHERE: 4325 N. Ravenswood Ave.\, Chicago (just S. of Montrose Ave.)\n\n\n\n* WHEN:  Sat-Sun\, Nov 30\, Dec 1\, 2024 (11am-5pm both days) - *new hours*\n\n\n\n* WHAT:  Indoor Market | Two Buildings | Two Floors each | 200+ Talented Artisans | Food\, Fashion\, Home Goods & Art | Bistro Seating | Two Stocked AE Bars | Artisan Coffee\, Tea\, Pastries & Desserts | Plated Food | Kids  12 get in free | Dog-friendly\n\n\n\n* WHY: Shop small\, LOCAL\, safe & sustainable - to find thoughtful gifts for everyone on your "nice" list!\n\n\n\n* WHAT YOU'LL FIND:  Art Jewelry | Woodworking | Ceramics | Prints & Illustrations | Gourmet Food | Paintings | Chicago-themed | Paintings | Spices & Sauces | Clothing & Accessories | Kids | Stickers | Crochet & Macrame | Candles | Vintage Jewelry & Home Decor | Spa & Bath Gifts | Bakery & Pastry Items...and much more!\n\n\n\nThe Chicago Artisan Market is proud to be a returning Sponsor and Official Stop of the Greater Ravenswood Chamber of Commerce's "Holly Jolly Trolley" on Day 1 of our market (Sat\, Nov 30th) in celebration of Small Shop Saturday. Climb aboard - and shop local with us!\n\n\n\nABOUT US: Our company has been showcasing & supporting Chicago area small businesses for 20+ years (since 2004)\, initially from a small office space in the historic Monadnock Building. Locally owned & operated\, we produce the Chicago Artisan Market in both Ravenswood & Fulton Market\, along with the Oak Brook Artisan Market\, Naperville Artisan Market & North Shore Artisan Market. Our markets give Chicago-based small businesses the opportunity to grow with us!\n\n\n\n"Keep your friends close\, and your supply chain closer."\n\n- Chicago Artisan Market
X-ALT-DESC;FMTTYPE=text/html:&quot\;Every time a bell rings\, a small business gets its wings.&quot\;<br />\n- Chicago Artisan Market&nbsp\;<br />\n<br />\nThe <strong>Chicago Artisan Market in Ravenswood </strong>is returning to Artifact Events on &quot\;Small Shop Saturday&quot\; &amp\; Sunday (Nov 30-Dec 1\, 2024) for a special 2-day market over Thanksgiving weekend. Start a new holiday tradition of re-connecting with friends &amp\; family\, while supporting local businesses!<br />\n<br />\nThis year\, shopping small\, LOCAL &amp\; sustainable -- is about to get a little bigger. Our &quot\;little market that could&quot\; is expanding to encompass both sides of the Artifact Events buildings (4325 N. Ravenswood Ave.\, Chicago). We are thrilled to be showcasing 200+ talented Chicago artisans in food\, fashion\, home goods &amp\; art.&nbsp\;&nbsp\;<br />\n(i.e. Two buildings\, two stories each\, and all connected indoors!)<br />\n<br />\n* WHERE: 4325 N. Ravenswood Ave.\, Chicago (just S. of Montrose Ave.)<br />\n<br />\n* WHEN:&nbsp\; Sat-Sun\, Nov 30\, Dec 1\, 2024 (11am-5pm both days) - <strong>*new hours*</strong><br />\n<br />\n* WHAT:&nbsp\; Indoor Market | Two Buildings | Two Floors each | 200+ Talented Artisans | Food\, Fashion\, Home Goods &amp\; Art | Bistro Seating | Two Stocked AE Bars | Artisan Coffee\, Tea\, Pastries &amp\; Desserts | Plated Food | Kids &lt\;12 get in free | Dog-friendly<br />\n<br />\n* WHY: Shop small\, LOCAL\, safe &amp\; sustainable - to find thoughtful gifts for everyone on your &quot\;nice&quot\; list!<br />\n<br />\n* WHAT YOU&#39\;LL FIND:&nbsp\; Art Jewelry | Woodworking | Ceramics | Prints &amp\; Illustrations | Gourmet Food | Paintings | Chicago-themed | Paintings | Spices &amp\; Sauces | Clothing &amp\; Accessories | Kids | Stickers | Crochet &amp\; Macrame | Candles | Vintage Jewelry &amp\; Home Decor | Spa &amp\; Bath Gifts | Bakery &amp\; Pastry Items...and much more!<br />\n<br />\n<em>The Chicago Artisan Market is proud to be a returning Sponsor and Official Stop of the Greater Ravenswood Chamber of Commerce&#39\;s &quot\;Holly Jolly Trolley&quot\; on Day 1 of our market (Sat\, Nov 30th) in celebration of Small Shop Saturday. Climb aboard - and shop local with us!</em><br />\n<br />\n<strong>ABOUT US: </strong>Our company has been showcasing &amp\; supporting Chicago area small businesses for 20+ years (since 2004)\, initially from a small office space in the historic Monadnock Building. Locally owned &amp\; operated\, we produce the Chicago Artisan Market in both Ravenswood &amp\; Fulton Market\, along with the Oak Brook Artisan Market\, Naperville Artisan Market &amp\; North Shore Artisan Market. Our markets give Chicago-based small businesses the opportunity to grow with us!<br />\n<br />\n&quot\;Keep your friends close\, and your supply chain closer.&quot\;<br />\n- Chicago Artisan Market&nbsp\;
LOCATION:4325 N. Ravenswood Ave.\, Chicago\, IL 60613 Artifact Events Buildings - both North & South
UID:e.2566.12029
SEQUENCE:3
DTSTAMP:20260421T141422Z
URL:https://business.ravenswoodchicago.org/events/details/chicago-artisan-market-in-ravenswood-small-shop-saturday-sunday-nov-30-dec-1-12029
END:VEVENT

END:VCALENDAR
