BEGIN:VCALENDAR
VERSION:2.0
PRODID:-//ChamberMaster//Event Calendar 2.0//EN
METHOD:PUBLISH
X-PUBLISHED-TTL:P3D
REFRESH-INTERVAL:P3D
CALSCALE:GREGORIAN
BEGIN:VEVENT
DTSTART;VALUE=DATE:20241002
DTEND;VALUE=DATE:20241003
TRANSP:TRANSPARENT
X-MICROSOFT-CDO-ALLDAYEVENT:TRUE
SUMMARY:Careers in Manufacturing Mixer
DESCRIPTION:Join us on Wednesday\, October 2nd at KOVAL Distillery for our first Careers in Manufacturing Mixer! This event is designed to connect local industrial business leaders and community members interested in a career in manufacturing. \n\n\n\nThis event is presented by the Greater Ravenswood Chamber of Commerce\, Jane Addams Resource Corporation\, and KOVAL Distillery.\n\n\n\nWhat to Expect:\n\n\n\nA happy hour style atmosphere in KOVAL Distillery's gorgeous tasting room in the Ravenswood Industrial Corridor. You'll have the chance to meet representatives from local manufacturers and learn about career paths and resources. This will also be an excellent opportunity to network with local professionals and business leaders.\n\n\n\nWho Should Attend:\n\n\n\nAnyone who currently has or is interested in a career in manufacturing! This mixer is open to business owners\, managers\, and HR teams\, as well as jobseekers and folks who are just curious about local manufacturing.
X-ALT-DESC;FMTTYPE=text/html:Join us on Wednesday\, October 2nd at KOVAL Distillery for our first Careers in Manufacturing Mixer! This event is designed to connect local industrial business leaders and community members interested in a career in manufacturing.&nbsp\;<br />\n<br />\nThis event is presented by the <a href="https://ravenswoodchicago.org/do-business/" target="_blank">Greater Ravenswood Chamber of Commerce</a>\,&nbsp\;<a href="https://www.jane-addams.org/" target="_blank">Jane Addams Resource Corporation</a>\, and <a href="https://www.koval-distillery.com/newsite/" target="_blank">KOVAL Distillery</a>.<br />\n<br />\n<strong>What to Expect:</strong><br />\n<br />\nA happy hour style atmosphere in KOVAL Distillery&#39\;s gorgeous tasting room in the Ravenswood Industrial Corridor. You&#39\;ll have the chance to meet representatives from local manufacturers and learn about career paths and resources. This will also be an excellent opportunity to network with local professionals and business leaders.<br />\n<br />\n<strong>Who Should Attend:</strong><br />\n<br />\nAnyone who currently has or is interested in a career in manufacturing! This mixer is open to business owners\, managers\, and HR teams\, as well as jobseekers and folks who are just curious about local manufacturing.
LOCATION:KOVAL Distillery 4241 N Ravenswood Ave Chicago\, IL 60613
UID:e.2566.11918
SEQUENCE:3
DTSTAMP:20260421T141253Z
URL:https://business.ravenswoodchicago.org/events/details/careers-in-manufacturing-mixer-11918
END:VEVENT

END:VCALENDAR
