BEGIN:VCALENDAR
VERSION:2.0
PRODID:-//ChamberMaster//Event Calendar 2.0//EN
METHOD:PUBLISH
X-PUBLISHED-TTL:P3D
REFRESH-INTERVAL:P3D
CALSCALE:GREGORIAN
BEGIN:VEVENT
DTSTART:20240917T233000Z
DTEND:20240918T003000Z
X-MICROSOFT-CDO-ALLDAYEVENT:FALSE
SUMMARY:CAPS Beat Meeting w/ 19th District Police at Sulzer Library
DESCRIPTION:Residents and business owners are invited to a discussion with local police focused on public safety and crime prevention in Beat 1911 (Irving Park to Lawrence\, The River to Damen) and Beat 1912 (Irving Park to Lawrence\, Damen to Clark St).
X-ALT-DESC;FMTTYPE=text/html:<p><br />\n<span style="font-size:10.5pt\;font-family:&quot\;Open Sans&quot\;\,sans-serif\;color:black">Residents and business owners are invited to a discussion with local police focused on public safety and crime prevention in Beat 1911 (Irving Park to Lawrence\, The River to Damen) and Beat 1912 (Irving Park to Lawrence\, Damen to Clark St).&nbsp\;<o:p></o:p></span></p>\n
LOCATION:Sulzer Library 4455 N Lincoln Ave
UID:e.2566.11970
SEQUENCE:3
DTSTAMP:20260421T170521Z
URL:https://business.ravenswoodchicago.org/events/details/caps-beat-meeting-w-19th-district-police-at-sulzer-library-11970
END:VEVENT

END:VCALENDAR
