BEGIN:VCALENDAR
VERSION:2.0
PRODID:-//ChamberMaster//Event Calendar 2.0//EN
METHOD:PUBLISH
X-PUBLISHED-TTL:P3D
REFRESH-INTERVAL:P3D
CALSCALE:GREGORIAN
BEGIN:VEVENT
DTSTART:20241121T133000Z
DTEND:20241121T153000Z
X-MICROSOFT-CDO-ALLDAYEVENT:FALSE
SUMMARY:Can't Miss - Financial Updates - End-of-the-Year Business Planning Workshop for Business Owners
DESCRIPTION:Business owner event hosted by Thrivent\n\nJoin us for an educational workshop with Thrivent Financial Advisors George Dan and John Furjanic\, C.F.P.\, and special guest Thrivent Regional Business Development Consultant\, Eric Murphy\, C.E.P.A.\n\nWe will provide an overview of how we work with business owners and discuss strategies and solutions that can help your business succeed.\n\nExplore how to identify\, protect and enhance your personal and business future.\n\n\n	Identify your wealth goal\, wealth gap and business value\n	Protect what you've built and retain top talent\n	Incorporate tax-efficient solutions\n\n\n \n\nBreakfast will be served. 30 participants max. Free entry.\n\nAgenda:\n\n7:30 AM - door open\n\n7:30 - 8:15 AM - breakfast and networking\n\n8:15 - 9:15 AM - workshop\n\n9:15 - 9:30 AM - Q&A\n\n\n\nREGISTER HERE\n\n\n\nLearn more about our services: https://connect.thrivent.com/oakmont-financial-group
X-ALT-DESC;FMTTYPE=text/html:<p><strong>Business owner event hosted by Thrivent</strong></p>\n\n<p>Join us for an educational workshop with Thrivent Financial Advisors George Dan and John Furjanic\, C.F.P.\, and special guest Thrivent Regional Business Development Consultant\, Eric Murphy\, C.E.P.A.</p>\n\n<p>We will provide an overview of how we work with business owners and discuss strategies and solutions that can help your business succeed.</p>\n\n<p>Explore how to identify\, protect and enhance your personal and business future.</p>\n\n<ul>\n	<li>Identify your wealth goal\, wealth gap and business value</li>\n	<li>Protect what you&#39\;ve built and retain top talent</li>\n	<li>Incorporate tax-efficient solutions</li>\n</ul>\n\n<p>&nbsp\;</p>\n\n<p>Breakfast will be served. 30 participants max. Free entry.</p>\n\n<p>Agenda:</p>\n\n<p>7:30 AM - door open</p>\n\n<p>7:30 - 8:15 AM - breakfast and networking</p>\n\n<p>8:15 - 9:15 AM - workshop</p>\n\n<p>9:15 - 9:30 AM - Q&amp\;A<br />\n<br />\n<a href="https://www.eventbrite.com/e/financial-business-planning-workshop-tickets-1061476437599?aff=oddtdtcreator">REGISTER HERE</a><br />\n<br />\nLearn more about our services:&nbsp\;<a href="https://connect.thrivent.com/oakmont-financial-group" style="box-sizing: border-box\; color: rgb(40\, 129\, 144)\; text-decoration-line: none\; transition: 0.3s\; overflow-wrap: break-word\; font-family: Montserrat\, CenturyGothic\, AvantGarde\, Helvetica\, Arial\, sans-serif\; font-size: 16px\;" target="_blank">https://connect.thrivent.com/oakmont-financial-group</a></p>\n
LOCATION:Falcon's Handcrafted Sandwiches 1968 West Lawrence Ave. Chicago\, iL 60640
UID:e.2566.12045
SEQUENCE:3
DTSTAMP:20260421T125707Z
URL:https://business.ravenswoodchicago.org/events/details/can-t-miss-financial-business-planning-workshop-for-business-owners-12045
END:VEVENT

END:VCALENDAR
