BEGIN:VCALENDAR
VERSION:2.0
PRODID:-//ChamberMaster//Event Calendar 2.0//EN
METHOD:PUBLISH
X-PUBLISHED-TTL:P3D
REFRESH-INTERVAL:P3D
CALSCALE:GREGORIAN
BEGIN:VEVENT
DTSTART;VALUE=DATE:20230112
DTEND;VALUE=DATE:20230113
TRANSP:TRANSPARENT
X-MICROSOFT-CDO-ALLDAYEVENT:TRUE
SUMMARY:Butler Children's Prep - Daycare/Preschool Enrollment Kick Off
DESCRIPTION:Schedule your tour of our new facility located at 2756-2758 W Montrose Avenue!  Call today 312.643.1401 or email Jake at jhanifin@butllerchicago.org.\n\n\n\nService children infant-5 years old.
X-ALT-DESC;FMTTYPE=text/html:Schedule your tour of our new facility located at 2756-2758 W Montrose Avenue!&nbsp\; Call today 312.643.1401 or email Jake at jhanifin@butllerchicago.org.<br />\n<br />\nService children infant-5 years old.
LOCATION:2756-2758 West Montrose Avenue
UID:e.2566.5093
SEQUENCE:3
DTSTAMP:20260420T142156Z
URL:https://business.ravenswoodchicago.org/events/details/butler-children-s-prep-daycare-preschool-enrollment-kick-off-5093
END:VEVENT

END:VCALENDAR
