BEGIN:VCALENDAR
VERSION:2.0
PRODID:-//ChamberMaster//Event Calendar 2.0//EN
METHOD:PUBLISH
X-PUBLISHED-TTL:P3D
REFRESH-INTERVAL:P3D
CALSCALE:GREGORIAN
BEGIN:VEVENT
DTSTART:20250329T150000Z
DTEND:20250330T000000Z
X-MICROSOFT-CDO-ALLDAYEVENT:FALSE
SUMMARY:BRB Aesthetics Central's Grand Opening
DESCRIPTION:We're thrilled to invite you to the Grand Opening of BRB Aesthetics Central on Saturday\, March 29\, 2025\, from 10 AM - 7 PM!\n\n \n\nWhat's in store for you? Exclusive Grand Opening Promotions & Packages Live Demos & Consultations (BBL\, MOXI\, Skinvive and Lip Filler) BRB Grab Bags & Gift With Purchase Over $500 Exciting Door Prizes & More! Enjoy Light Bites & Drinks While You Mingle!\n\n \n\nExclusive Grand Opening Promotions: 20% off on ZO Skin Health products 20% off on Restylane Lip Filler 20% off on SkinVive Free ZO Getting Skin Ready Kit (valued at $78) for Premier and Paramount Partners\n\n \n\nExclusive Treatment Packages   Limited Time Only!\n\nRSVP NOW: https://forms.monday.com/forms/780c4636ad51fedd1d00133536583b98?r=use1\n\n \n\nWe can't wait to celebrate with you!\n\nBRB Aesthetics Central 1827 W Montrose Avenue\, Chicago\, IL 60613 872-766-2272 www.brbcentral.com\n\nFollow us on [Instagram / Facebook] for event updates!
X-ALT-DESC;FMTTYPE=text/html:<p>We&rsquo\;re thrilled to invite you to the Grand Opening of BRB Aesthetics Central on Saturday\, March 29\, 2025\, from 10 AM - 7 PM!</p>\n\n<p>&nbsp\;</p>\n\n<p>What&rsquo\;s in store for you? Exclusive Grand Opening Promotions &amp\; Packages Live Demos &amp\; Consultations (BBL\, MOXI\, Skinvive and Lip Filler) BRB Grab Bags &amp\; Gift With Purchase Over $500 Exciting Door Prizes &amp\; More! Enjoy Light Bites &amp\; Drinks While You Mingle!</p>\n\n<p>&nbsp\;</p>\n\n<p>Exclusive Grand Opening Promotions: 20% off on ZO Skin Health products 20% off on Restylane Lip Filler 20% off on SkinVive Free ZO Getting Skin Ready Kit (valued at $78) for Premier and Paramount Partners</p>\n\n<p>&nbsp\;</p>\n\n<p>Exclusive Treatment Packages &ndash\; Limited Time Only!</p>\n\n<p>RSVP NOW: https://forms.monday.com/forms/780c4636ad51fedd1d00133536583b98?r=use1</p>\n\n<p>&nbsp\;</p>\n\n<p>We can&#39\;t wait to celebrate with you!</p>\n\n<p>BRB Aesthetics Central 1827 W Montrose Avenue\, Chicago\, IL 60613 872-766-2272 www.brbcentral.com</p>\n\n<p>Follow us on [Instagram / Facebook] for event updates!</p>\n
LOCATION:BRB Aesthetics Central 1827 W Montrose Avenue\, Chicago\, IL 60613
UID:e.2566.13630
SEQUENCE:3
DTSTAMP:20260421T073215Z
URL:https://business.ravenswoodchicago.org/events/details/brb-aesthetics-central-s-grand-opening-13630
END:VEVENT

END:VCALENDAR
