BEGIN:VCALENDAR
VERSION:2.0
PRODID:-//ChamberMaster//Event Calendar 2.0//EN
METHOD:PUBLISH
X-PUBLISHED-TTL:P3D
REFRESH-INTERVAL:P3D
CALSCALE:GREGORIAN
BEGIN:VEVENT
DTSTART:20250601T170000Z
DTEND:20250601T200000Z
X-MICROSOFT-CDO-ALLDAYEVENT:FALSE
SUMMARY:Bowling 4 Reuse
DESCRIPTION:Bowl-a-Rama | June 1\, 2025 | 12-3PM | Timberlanes Join the Rebuilding Exchange and other organizations dedicated to reuse and sustainability for our first Bowl-a-Rama competition and fundraiser on June 1\, from noon to 3 p.m. Register your team today to raise money for your favorite organization\, compete for prizes\, nosh on comforting favorites from local restaurants\, and network with others working towards a greener future for our City. Registration is $200 for teams of up to six people and includes one hour of bowling\, shoe rentals\, lunch and support for our shared mission. Register for one session\, or book a lane for the whole afternoon! Funds raised will support both the event organizer\, the Rebuilding Exchange\, and other local sustainability organizations\, including Working Bikes\, Plant Chicago\, Creative Chicago Reuse Exchange\, the Wasteshed and Ecoship. The more teams you register\, the more money we raise. Please keep in mind that space is limited to 24 total teams\, and registrations are filling up!
X-ALT-DESC;FMTTYPE=text/html:Bowl-a-Rama | June 1\, 2025 | 12-3PM | Timberlanes Join the Rebuilding Exchange and other organizations dedicated to reuse and sustainability for our first Bowl-a-Rama competition and fundraiser on June 1\, from noon to 3 p.m. Register your team today to raise money for your favorite organization\, compete for prizes\, nosh on comforting favorites from local restaurants\, and network with others working towards a greener future for our City. Registration is $200 for teams of up to six people and includes one hour of bowling\, shoe rentals\, lunch and support for our shared mission. Register for one session\, or book a lane for the whole afternoon! Funds raised will support both the event organizer\, the Rebuilding Exchange\, and other local sustainability organizations\, including Working Bikes\, Plant Chicago\, Creative Chicago Reuse Exchange\, the Wasteshed and Ecoship. The more teams you register\, the more money we raise. Please keep in mind that space is limited to 24 total teams\, and registrations are filling up!
LOCATION:Timber Lanes
UID:e.2566.13972
SEQUENCE:3
DTSTAMP:20260421T015108Z
URL:https://business.ravenswoodchicago.org/events/details/bowling-4-reuse-13972
END:VEVENT

END:VCALENDAR
