BEGIN:VCALENDAR
VERSION:2.0
PRODID:-//ChamberMaster//Event Calendar 2.0//EN
METHOD:PUBLISH
X-PUBLISHED-TTL:P3D
REFRESH-INTERVAL:P3D
CALSCALE:GREGORIAN
BEGIN:VEVENT
DTSTART:20250503T190000Z
DTEND:20250503T210000Z
X-MICROSOFT-CDO-ALLDAYEVENT:FALSE
SUMMARY:Bharatanatyam Masterclass serie @ Joel Hall Dancers & Center\, 4511 N. Clark Street\, Chicago\, IL
DESCRIPTION:Joel Hall Dancers & Center\npresent our Masterclass series:\n\n \nBharatanatyam Masterclass - with Kiran\n\nDate: Saturday\, May 3rd\n\nTime: 2pm-4pm (2hr)\n\nRSVP ($25)\nKiran\, a multifaceted dancer\, choreographer\, and educator\, will introduce participants of all ages and backgrounds to Bharatanatyam a classical Indian dance form from South India\, known for its intricate footwork\, precise movements\, and captivating storytelling.\n\n\n\nLocation:\n\nJoel Hall Dancers & Center\n\n4511 N. Clark St.\n\nChicago\, IL 60640\n\n(773) 888-0477 x103\n\n\n\nCheck for upcoming events: www.joelhall.org/events
X-ALT-DESC;FMTTYPE=text/html:<h1>Joel Hall Dancers &amp\; Center</h1>\npresent our Masterclass series:<br />\n&nbsp\;\n<h3><strong>Bharatanatyam Masterclass - with Kiran</strong></h3>\n\n<h3>Date: Saturday\, May 3rd<br />\nTime: 2pm-4pm (2hr)<br />\n<a href="https://clients.mindbodyonline.com/classic/ws?studioid=20511&amp\;sclassid=2436&amp\;sDate=5/3/2025&amp\;sLoc=1&amp\;sTG=30&amp\;sType=1">RSVP&nbsp\;</a>($25)</h3>\n<strong>Kiran\, a multifaceted dancer\, choreographer\, and educator\, will introduce participants of all ages and backgrounds to Bharatanatyam&mdash\;a classical Indian dance form from South India\, known for its intricate footwork\, precise movements\, and captivating storytelling.</strong>\n\n<p><br />\n<strong>Location</strong>:<br />\nJoel Hall Dancers &amp\; Center<br />\n4511 N. Clark St.<br />\nChicago\, IL 60640<br />\n(773) 888-0477 x103</p>\n\n<p><br />\nCheck for upcoming events:&nbsp\;<a href="https://www.joelhall.org/events">www.joelhall.org/events</a></p>\n
LOCATION:Joel Hall Dancers & Center 4511 N. Clark Street Chicago\, IL 60640
UID:e.2566.13873
SEQUENCE:3
DTSTAMP:20260421T045008Z
URL:https://business.ravenswoodchicago.org/events/details/bharatanatyam-masterclass-serie-joel-hall-dancers-center-4511-n-clark-street-chicago-il-13873
END:VEVENT

END:VCALENDAR
