BEGIN:VCALENDAR
VERSION:2.0
PRODID:-//ChamberMaster//Event Calendar 2.0//EN
METHOD:PUBLISH
X-PUBLISHED-TTL:P3D
REFRESH-INTERVAL:P3D
CALSCALE:GREGORIAN
BEGIN:VEVENT
DTSTART:20241122T000000Z
DTEND:20241122T020000Z
X-MICROSOFT-CDO-ALLDAYEVENT:FALSE
SUMMARY:Best of Ravenswood Awards Ceremony and GRCC Member Mixer
DESCRIPTION:Join the Greater Ravenswood Chamber of Commerce at Platform 47 for the Best of Ravenswood Awards Ceremony and Member Mixer! Meet local business owners\, non-profit leaders\, and community members while enjoying excellent food and drink in one of Ravenswood's favorite hangouts.\n\n\nIn addition to unveiling the 2024 Best of Ravenswood Awards recipients\, this is a great opportunity to connect with GRCC's staff and PR team\, learn more about our work in the community\, and talk through ideas for 2025.\n\n\nSpace for the event is limited. Tickets include admission\, small bites from Platform 47\, and your first drink from the bar. Bring business cards for swapping (and don't forget to drop one in our giveaway bin). We'll reward one lucky winner with a pair of tickets to our Ravenswood x Andersonville Holiday Mixer in December!\n\n\nRegistration closes on Tuesday\, November 19th at 12pm.
X-ALT-DESC;FMTTYPE=text/html:<!-- wp:paragraph -->\n<p><!-- wp:paragraph --></p>\n\n<p><span style="color: rgb(64\, 64\, 64)\; font-family: Montserrat\, &quot\;Century Gothic&quot\;\, &quot\;Avant Garde&quot\;\, Helvetica\, Arial\, sans-serif\; font-size: 17.6px\;">Join the Greater Ravenswood Chamber of Commerce at&nbsp\;</span><a href="https://www.platform47chicago.com/home" style="box-sizing: inherit\; color: rgb(0\, 87\, 82)\; text-decoration-thickness: 1px\; text-decoration-style: solid\; text-decoration-color: rgb(72\, 193\, 189)\; transition: 0.3s\; font-family: Montserrat\, &quot\;Century Gothic&quot\;\, &quot\;Avant Garde&quot\;\, Helvetica\, Arial\, sans-serif\; font-size: 17.6px\;">Platform 47</a><span style="color: rgb(64\, 64\, 64)\; font-family: Montserrat\, &quot\;Century Gothic&quot\;\, &quot\;Avant Garde&quot\;\, Helvetica\, Arial\, sans-serif\; font-size: 17.6px\;">&nbsp\;for the Best of Ravenswood Awards Ceremony and&nbsp\;</span><span class="query-term" style="box-sizing: inherit\; color: rgb(64\, 64\, 64)\; font-family: Montserrat\, &quot\;Century Gothic&quot\;\, &quot\;Avant Garde&quot\;\, Helvetica\, Arial\, sans-serif\; font-size: 17.6px\;">Member Mixer</span><span style="color: rgb(64\, 64\, 64)\; font-family: Montserrat\, &quot\;Century Gothic&quot\;\, &quot\;Avant Garde&quot\;\, Helvetica\, Arial\, sans-serif\; font-size: 17.6px\;">! Meet local business owners\, non-profit leaders\, and community&nbsp\;</span><span class="query-term" style="box-sizing: inherit\; color: rgb(64\, 64\, 64)\; font-family: Montserrat\, &quot\;Century Gothic&quot\;\, &quot\;Avant Garde&quot\;\, Helvetica\, Arial\, sans-serif\; font-size: 17.6px\;">member</span><span style="color: rgb(64\, 64\, 64)\; font-family: Montserrat\, &quot\;Century Gothic&quot\;\, &quot\;Avant Garde&quot\;\, Helvetica\, Arial\, sans-serif\; font-size: 17.6px\;">s while enjoying excellent food and drink in one of Ravenswood&rsquo\;s favorite hangouts.</span></p>\n<!-- /wp:paragraph --><!-- wp:paragraph -->\n\n<p>In addition to unveiling the 2024 Best of Ravenswood Awards recipients\, this is a great opportunity to connect with GRCC&#39\;s staff and PR team\, learn more about our work in the community\, and talk through ideas for 2025.</p>\n<!-- /wp:paragraph --><!-- wp:paragraph -->\n\n<p>Space for the event is limited. Tickets include admission\, small bites from Platform 47\, and your first drink from the bar. Bring business cards for swapping (and don&rsquo\;t forget to drop one in our giveaway bin). We&rsquo\;ll reward one lucky winner with a pair of tickets to our&nbsp\;<a href="https://ravenswoodchicago.org/holiday-mixer-2024">Ravenswood x Andersonville Holiday Mixer in December</a>!</p>\n\n<p><!-- /wp:paragraph --></p>\n<strong>Registration closes on Tuesday\, November 19th at 12pm.&nbsp\;</strong>
LOCATION:Platform 47
UID:e.2566.11933
SEQUENCE:3
DTSTAMP:20260420T005536Z
URL:https://business.ravenswoodchicago.org/events/details/best-of-ravenswood-awards-ceremony-and-grcc-member-mixer-11933
END:VEVENT

END:VCALENDAR
