BEGIN:VCALENDAR
VERSION:2.0
PRODID:-//ChamberMaster//Event Calendar 2.0//EN
METHOD:PUBLISH
X-PUBLISHED-TTL:P3D
REFRESH-INTERVAL:P3D
CALSCALE:GREGORIAN
BEGIN:VEVENT
DTSTART:20241026T010000Z
DTEND:20241026T030000Z
X-MICROSOFT-CDO-ALLDAYEVENT:FALSE
SUMMARY:Best Buds 420 Friendly Adult Night
DESCRIPTION:Get ready for a highly creative 420-friendly night at our BONGs Ceramic Painting Event! ???? Join us for an unforgettable evening where you can design and paint your very own ceramic bong. Once you're done painting\, we'll glaze and fire it in our kiln\, turning it into a fully functional 420 masterpiece! No experience necessary just bring your artistic vibes\, and we'll supply everything else. Whether you're looking to create a cool display piece or something functional\, this night is going to be a blast! $15 covers the studio fee for late night event and you pay for the piece selected at the studio. Each Beaker comes with comes with a glass bowl and silicone downstem. No smoking allowed in the studio. 21+ event
X-ALT-DESC;FMTTYPE=text/html:Get ready for a highly creative 420-friendly night at our BONGs Ceramic Painting Event! ???? Join us for an unforgettable evening where you can design and paint your very own ceramic bong. Once you&rsquo\;re done painting\, we&rsquo\;ll glaze and fire it in our kiln\, turning it into a fully functional 420 masterpiece! No experience necessary&mdash\;just bring your artistic vibes\, and we&rsquo\;ll supply everything else. Whether you&rsquo\;re looking to create a cool display piece or something functional\, this night is going to be a blast! $15 covers the studio fee for late night event and you pay for the piece selected at the studio. Each Beaker comes with comes with a glass bowl and silicone downstem. No smoking allowed in the studio. 21+ event
LOCATION:Color Me Mine\, North Center
UID:e.2566.12020
SEQUENCE:3
DTSTAMP:20260421T141227Z
URL:https://business.ravenswoodchicago.org/events/details/best-buds-420-friendly-adult-night-12020
END:VEVENT

END:VCALENDAR
