BEGIN:VCALENDAR
VERSION:2.0
PRODID:-//ChamberMaster//Event Calendar 2.0//EN
METHOD:PUBLISH
X-PUBLISHED-TTL:P3D
REFRESH-INTERVAL:P3D
CALSCALE:GREGORIAN
BEGIN:VEVENT
DTSTART;VALUE=DATE:20241025
DTEND;VALUE=DATE:20241026
TRANSP:TRANSPARENT
X-MICROSOFT-CDO-ALLDAYEVENT:TRUE
SUMMARY:Best Buds 420 Friendly Adult Night!
DESCRIPTION:Friday \, October 25th \, 8pm -10pm \n\nGet ready for a highly creative 420-friendly night at our BONGs Ceramic Painting Event! ????\n\nJoin us for an unforgettable evening where you can design and paint your very own ceramic bong.\n\nOnce you're done painting\, we'll glaze and fire it in our kiln\, turning it into a fully functional 420 masterpiece!\n\nNo experience necessary just bring your artistic vibes\, and we'll supply everything else.\n\nWhether you're looking to create a cool display piece or something functional\, this night is going to be a blast!\n\n$15 covers the studio fee for late night event and you pay for the piece selected at the studio.\n\nEach Beaker comes with comes with a glass bowl and silicone downstem.\n\nNo smoking allowed in the studio. 21+ event
X-ALT-DESC;FMTTYPE=text/html:<strong><span style="font-size:14.0pt">Friday \, October 25th \, 8pm -10pm&nbsp\;</span></strong><br />\n<span style="font-size:18.6667px">Get ready for a&nbsp\;</span><em>highly</em><span style="font-size:18.6667px">&nbsp\;creative 420-friendly night at our BONGs Ceramic Painting Event!&nbsp\;</span><span style="font-family:segoe ui emoji\,sans-serif"><span style="font-size:14.0pt">????</span></span><br />\n<span style="font-size:14.0pt">Join us for an unforgettable evening where you can design and paint your very own ceramic bong.</span><br />\n<span style="font-size:14.0pt">Once you&rsquo\;re done painting\, we&rsquo\;ll glaze and fire it in our kiln\, turning it into a fully functional 420 masterpiece!</span><br />\n<span style="font-size:14.0pt">No experience necessary&mdash\;just bring your artistic vibes\, and we&rsquo\;ll supply everything else.</span><br />\n<span style="font-size:14.0pt">Whether you&rsquo\;re looking to create a cool display piece or something functional\, this night is going to be a blast!</span><br />\n<span style="font-size:14.0pt">$15 covers the studio fee for late night event and you pay for the piece selected at the studio.</span><br />\n<em><span style="font-size:14.0pt">Each Beaker comes with comes with a glass bowl and silicone downstem</span></em><span style="font-size:14.0pt">.</span><br />\n<span style="font-size:14.0pt">No smoking allowed in the studio. 21+ event</span>
LOCATION:Color Me Mine North Center Chicago
UID:e.2566.12024
SEQUENCE:3
DTSTAMP:20260421T141417Z
URL:https://business.ravenswoodchicago.org/events/details/best-buds-420-friendly-adult-night-10-25-2024-12024
END:VEVENT

END:VCALENDAR
