BEGIN:VCALENDAR
VERSION:2.0
PRODID:-//ChamberMaster//Event Calendar 2.0//EN
METHOD:PUBLISH
X-PUBLISHED-TTL:P3D
REFRESH-INTERVAL:P3D
CALSCALE:GREGORIAN
BEGIN:VEVENT
DTSTART:20241012T140000Z
DTEND:20241012T200000Z
X-MICROSOFT-CDO-ALLDAYEVENT:FALSE
SUMMARY:Bender Martial Arts and Fitness Grand Re-opening
DESCRIPTION:In 4 short years\, Bender Martial Arts and Fitness proved itself to be Northside Chicago's Premier Source for Fitness and Martial Arts\, so we have expanded into a much larger facility within the same building. We have added more than double the mat space\, a boxing ring\, more heavy bags and more fitness equipment\, full service bathrooms\, changing rooms and a shower! We are the only Academy on the Northside of Chicago with international certified coaches in all disciplines: Brazilian Jiu Jitsu\, Muay Thai kickboxing\, Wrestling\, Judo and Fitness. Please join us for our Grand Re-opening Oct 12th at 9am for a free kids Fitness and Martial Arts class. From 10am-3pm adults can come in and talk to members and learn a self-defense technique if they so choose. We have raffle prizes from surrounding businesses\, Rigo's Taco Truck outside selling tacos at a special BMAF rate\, and enjoy homemade ice cream for dessert!
X-ALT-DESC;FMTTYPE=text/html:In 4 short years\, Bender Martial Arts and Fitness proved itself to be Northside Chicago&#39\;s Premier Source for Fitness and Martial Arts\, so we have expanded into a much larger facility within the same building. We have added more than double the mat space\, a boxing ring\, more heavy bags and more fitness equipment\, full service bathrooms\, changing rooms and a shower! We are the only Academy on the Northside of Chicago with international certified coaches in all disciplines: Brazilian Jiu Jitsu\, Muay Thai kickboxing\, Wrestling\, Judo and Fitness. Please join us for our Grand Re-opening Oct 12th at 9am for a free kids Fitness and Martial Arts class. From 10am-3pm adults can come in and talk to members and learn a self-defense technique if they so choose. We have raffle prizes from surrounding businesses\, Rigo&#39\;s Taco Truck outside selling tacos at a special BMAF rate\, and enjoy homemade ice cream for dessert!
LOCATION:5547 N. Ravenswood Suite B2 Chicago 60640
UID:e.2566.11990
SEQUENCE:3
DTSTAMP:20260421T170536Z
URL:https://business.ravenswoodchicago.org/events/details/bender-martial-arts-and-fitness-grand-re-opening-11990
END:VEVENT

END:VCALENDAR
