BEGIN:VCALENDAR
VERSION:2.0
PRODID:-//ChamberMaster//Event Calendar 2.0//EN
METHOD:PUBLISH
X-PUBLISHED-TTL:P3D
REFRESH-INTERVAL:P3D
CALSCALE:GREGORIAN
BEGIN:VEVENT
DTSTART:20250729T220000Z
DTEND:20250801T013000Z
X-MICROSOFT-CDO-ALLDAYEVENT:FALSE
SUMMARY:Ballet + Somatics
DESCRIPTION:Join us for an immersive three-day Ballet & Somatics Intensive\, designed for dancers looking to deepen their artistry\, refine technique\, and explore movement with a holistic approach. This intensive blends classical ballet training with somatic practices\, fostering body awareness\, fluidity\, and strength.\n\n\n\nWhat to Expect:\n\n- Daily ballet technique class to enhance precision\n\n- Somatic movement exploration to improve alignment\, flexibility\, and injury prevention\n\n- Guided improvisation and mindful movement exercises\n\n- Personalized feedback to support individual growth
X-ALT-DESC;FMTTYPE=text/html:Join us for an immersive three-day Ballet &amp\; Somatics Intensive\, designed for dancers looking to deepen their artistry\, refine technique\, and explore movement with a holistic approach. This intensive blends classical ballet training with somatic practices\, fostering body awareness\, fluidity\, and strength.<br />\n<br />\nWhat to Expect:<br />\n- Daily ballet technique class to enhance precision<br />\n-&nbsp\;Somatic movement exploration to improve alignment\, flexibility\, and injury prevention<br />\n-&nbsp\;Guided improvisation and mindful movement exercises<br />\n- Personalized feedback to support individual growth
LOCATION:DANCE COLONY Studios \, 4222 N Ravenswood Ave\, Chicago\, IL 60613\, USA
UID:e.2566.13989
SEQUENCE:3
DTSTAMP:20260420T225737Z
URL:https://business.ravenswoodchicago.org/events/details/ballet-somatics-07-29-2025-13989
END:VEVENT

END:VCALENDAR
