BEGIN:VCALENDAR
VERSION:2.0
PRODID:-//ChamberMaster//Event Calendar 2.0//EN
METHOD:PUBLISH
X-PUBLISHED-TTL:P3D
REFRESH-INTERVAL:P3D
CALSCALE:GREGORIAN
BEGIN:VEVENT
DTSTART:20250721T150000Z
DTEND:20250725T220000Z
X-MICROSOFT-CDO-ALLDAYEVENT:FALSE
SUMMARY:BALLET MATTERS
DESCRIPTION:Elevate your technique this Summer! Ballet Matters is a week-long intensive\, specializing in ballet training and the development of artistry. Training includes 30 hours of classes\, 4 hrs/day of pointe work\, and a final showcase to highlight your hard work! Led by Jeff Wolfe and Callie Croom\, this event promises to reinvigorate your passion for ballet and explore the vast inventory of both classical and contemporary repertoire. Classes daily 10:00am-5:00pm Showcase 7/25 at 4:00pm
X-ALT-DESC;FMTTYPE=text/html:Elevate your technique this Summer! Ballet Matters is a week-long intensive\, specializing in ballet training and the development of artistry. Training includes 30 hours of classes\, 4 hrs/day of pointe work\, and a final showcase to highlight your hard work! Led by Jeff Wolfe and Callie Croom\, this event promises to reinvigorate your passion for ballet and explore the vast inventory of both classical and contemporary repertoire. Classes daily 10:00am-5:00pm Showcase 7/25 at 4:00pm
LOCATION:Dance Colony Studios 4222 N. Ravenswood Ave.\, Suite 102. Entrance C Chicago IL 60613
UID:e.2566.13980
SEQUENCE:3
DTSTAMP:20260420T214715Z
URL:https://business.ravenswoodchicago.org/events/details/ballet-matters-13980
END:VEVENT

END:VCALENDAR
