BEGIN:VCALENDAR
VERSION:2.0
PRODID:-//ChamberMaster//Event Calendar 2.0//EN
METHOD:PUBLISH
X-PUBLISHED-TTL:P3D
REFRESH-INTERVAL:P3D
CALSCALE:GREGORIAN
BEGIN:VEVENT
DTSTART:20240728T000000Z
DTEND:20240728T030000Z
X-MICROSOFT-CDO-ALLDAYEVENT:FALSE
SUMMARY:Bachata Dance Social!
DESCRIPTION:Word on the street is that BDC has Chicago's largest ballroom dance floor\, and we want to put it to good use! The fourth Saturday of every month\, we are hosting Saturday night socials\, open to the public. The night will begin with a 45 min class\, followed by 2 hours of open dancing.\n\nWhile we will play music in the dance style of the offered class\, we will also play ballroom music throughout the night to give enthusiasts a place to practice\, and maybe even show off!\n\n7:00pm to 7:45pm - Bachata Class\n\n8:00pm to 10:00pm - Open Dancing - Bachata\, Ballroom\, & Swing\n\nCost: \n\nClass & Social - $25/person\n\nSocial Only - $18/person
X-ALT-DESC;FMTTYPE=text/html:<p style="text-align:center">Word on the street is that BDC has Chicago&#39\;s largest ballroom dance floor\, and we want to put it to good use! The fourth Saturday of every month\, we are hosting Saturday night socials\, open to the public. The night will begin with a 45 min class\, followed by 2 hours of open dancing.</p>\n\n<p style="text-align:center">While we will play music in the dance style of the offered class\, we will also play ballroom music throughout the night to give enthusiasts a place to practice\, and maybe even show off!</p>\n\n<p style="text-align:center">7:00pm to 7:45pm - Bachata Class</p>\n\n<p style="text-align:center">8:00pm to 10:00pm - Open Dancing - Bachata\, Ballroom\, &amp\; Swing</p>\n\n<p><em>Cost:</em><em> </em></p>\n\n<p><em><a href="https://momence.com/David-Saucedo/Bachata-Class-%2B-4th-Saturday-Social/103251100">Class &amp\; Social </a>- $25/person</em></p>\n\n<p><em><a href="https://momence.com/David-Saucedo/4th-Saturday-Social-(Social-Only)/103251044">Social Only</a> - $18/person</em></p>\n\n<p><br />\n&nbsp\;</p>\n
LOCATION:4039b N. Ravenswood Ave Chicago\, IL 60613
UID:e.2566.11876
SEQUENCE:3
DTSTAMP:20260421T181812Z
URL:https://business.ravenswoodchicago.org/events/details/bachata-dance-social-11876
END:VEVENT

END:VCALENDAR
