BEGIN:VCALENDAR
VERSION:2.0
PRODID:-//ChamberMaster//Event Calendar 2.0//EN
METHOD:PUBLISH
X-PUBLISHED-TTL:P3D
REFRESH-INTERVAL:P3D
CALSCALE:GREGORIAN
BEGIN:VEVENT
DTSTART:20240619T223000Z
DTEND:20240620T000000Z
X-MICROSOFT-CDO-ALLDAYEVENT:FALSE
SUMMARY:An Evening of Camaraderie - Happy Hour!
DESCRIPTION:Happy Hour! \n\nJoin your fellow Chamber members for a drink at Spiteful Brewing Tap Room! \n\n2024 W. Balmoral Ave
X-ALT-DESC;FMTTYPE=text/html:Happy Hour!&nbsp\;<br />\nJoin your fellow Chamber members for a drink at Spiteful Brewing Tap Room!&nbsp\;<br />\n2024 W. Balmoral Ave
LOCATION:2024 W. Balmoral Ave Chicago\, IL 60625
UID:e.2566.8549
SEQUENCE:3
DTSTAMP:20260421T224125Z
URL:https://business.ravenswoodchicago.org/events/details/an-evening-of-camaraderie-happy-hour-8549
END:VEVENT

END:VCALENDAR
