BEGIN:VCALENDAR
VERSION:2.0
PRODID:-//ChamberMaster//Event Calendar 2.0//EN
METHOD:PUBLISH
X-PUBLISHED-TTL:P3D
REFRESH-INTERVAL:P3D
CALSCALE:GREGORIAN
BEGIN:VEVENT
DTSTART:20250425T150000Z
DTEND:20250425T160000Z
X-MICROSOFT-CDO-ALLDAYEVENT:FALSE
SUMMARY:Adult Ballet (Open Level - Beginner) @ Joel Hall Dancers & Center (4511 N. Clark St)
DESCRIPTION:Curious about ballet? Now's the perfect time to give it a try!\n\nJoin us for a 60-minute Adult Ballet (Open-Level   Beginner) trial class on Friday\, April 25th. This welcoming\, no-pressure session is designed especially for adults who are new to ballet and ready to take their first steps.\n\nYou'll get a feel for the fundamentals\, build confidence\, and experience the beauty of ballet no prior experience needed.\n\nSpots are limited and this class is only available for this time\, so don't wait sign up today!\n\nWe can't wait to dance with you!
X-ALT-DESC;FMTTYPE=text/html:<p>Curious about ballet? Now&rsquo\;s the perfect time to give it a try!</p>\n\n<p>Join us for a&nbsp\;<strong>60-minute Adult Ballet (Open-Level &ndash\; Beginner) trial class</strong>&nbsp\;on&nbsp\;<strong>Friday\, April 25th</strong>. This welcoming\, no-pressure session is designed especially for adults who are new to ballet and ready to take their first steps.</p>\n\n<p>You&#39\;ll get a feel for the fundamentals\, build confidence\, and experience the beauty of ballet&mdash\;no prior experience needed.</p>\n\n<p><strong>Spots are limited and this class is only available for this time\, so don&rsquo\;t wait&mdash\;sign up today!</strong></p>\n\n<p>We can&rsquo\;t wait to dance with you!</p>\n
LOCATION:Joel Hall Dancers & Center 4511 N. Clark Chicago\, IL 60640
UID:e.2566.13874
SEQUENCE:3
DTSTAMP:20260421T044959Z
URL:https://business.ravenswoodchicago.org/events/details/adult-ballet-open-level-beginner-joel-hall-dancers-center-4511-n-clark-st-13874
END:VEVENT

END:VCALENDAR
