BEGIN:VCALENDAR
VERSION:2.0
PRODID:-//ChamberMaster//Event Calendar 2.0//EN
METHOD:PUBLISH
X-PUBLISHED-TTL:P3D
REFRESH-INTERVAL:P3D
CALSCALE:GREGORIAN
BEGIN:VEVENT
DTSTART:20250719T000000Z
DTEND:20250719T013000Z
X-MICROSOFT-CDO-ALLDAYEVENT:FALSE
SUMMARY:Acroyoga Workshop
DESCRIPTION:#datenight #bffs\n\n \nAbout the event\n\n\n\n\n \n\nDeepen your yoga poses and connections with others. You will be guided through several yoga techniques that'll help you discover practicing yoga with a partner. This is a fun and very playful event - expect laughs and a lot of smiles! We will set up in either pairs or groups of 3.  This event is a great way to step out of your shell \;)\n\n \n\nHost: Jenny\n\n\n\n \n\nBenefits of Partner Yoga:\n\nBuild trust \n\nEnhance communication \n\nDevelop a sensitivity to each others needs \n\nIncreases FUN! \n\nDeepen a connection \n\nRelaxation \n\nThis is great for date night or just hanging with a good friend! \n\n \n\nEach participant will need a ticket. \n\n$35 for PY members\n\n$40 for nonmembers
X-ALT-DESC;FMTTYPE=text/html:<span style="color:rgb(9\, 20\, 5)\; font-family:poppins-extralight\,poppins\,sans-serif\; font-size:16px">#datenight #bffs</span><br />\n&nbsp\;\n<h2>About the event</h2>\n\n<div style="background:transparent\; border:0px\; padding:0px">\n<div style="background:rgba(0\, 0\, 0\, 0)\; border:0px\; padding:0px">\n<div style="background:transparent\; border:0px\; padding:0px">\n<div style="background:transparent\; border:0px\; padding:0px\; text-align:initial">&nbsp\;</div>\n\n<p style="text-align:initial">Deepen your yoga poses and connections with others. You will be guided through several yoga techniques that&rsquo\;ll help you discover practicing yoga with a partner. This is a fun and very playful event - expect laughs and a lot of smiles! We will set up in either pairs or groups of 3. &nbsp\;This event is a great way to step out of your shell \;)</p>\n\n<div style="background:transparent\; border:0px\; padding:0px\; text-align:initial">&nbsp\;</div>\n\n<p style="text-align:initial">Host: Jenny<br />\n<br />\n&nbsp\;</p>\n\n<p style="text-align:initial">Benefits of Partner Yoga:</p>\n\n<p style="text-align:initial">Build trust&nbsp\;</p>\n\n<p style="text-align:initial">Enhance communication&nbsp\;</p>\n\n<p style="text-align:initial">Develop a sensitivity to each others needs&nbsp\;</p>\n\n<p style="text-align:initial">Increases FUN!&nbsp\;</p>\n\n<p style="text-align:initial">Deepen a connection&nbsp\;</p>\n\n<p style="text-align:initial">Relaxation&nbsp\;</p>\n\n<p style="text-align:initial">This is great for date night or just hanging with a good friend!&nbsp\;</p>\n\n<div style="background:transparent\; border:0px\; padding:0px\; text-align:initial">&nbsp\;</div>\n\n<p style="text-align:initial">Each participant will need a ticket.&nbsp\;</p>\n\n<p style="text-align:initial">$35 for PY members</p>\n\n<p style="text-align:initial">$40 for nonmembers&nbsp\;</p>\n</div>\n</div>\n</div>\n
LOCATION:Pistachio Yoga\, Storefront\, 5206 N Damen Ave\, Chicago\, IL 60625\, USA
UID:e.2566.14544
SEQUENCE:3
DTSTAMP:20260420T215414Z
URL:https://business.ravenswoodchicago.org/events/details/acroyoga-workshop-07-18-2025-14544
END:VEVENT

END:VCALENDAR
